BEGIN:VCALENDAR
VERSION:2.0
PRODID:-//Kingdom Fire - ECPv6.15.20//NONSGML v1.0//EN
CALSCALE:GREGORIAN
METHOD:PUBLISH
X-WR-CALNAME:Kingdom Fire
X-ORIGINAL-URL:https://kingdomfire.us
X-WR-CALDESC:Events for Kingdom Fire
REFRESH-INTERVAL;VALUE=DURATION:PT1H
X-Robots-Tag:noindex
X-PUBLISHED-TTL:PT1H
BEGIN:VTIMEZONE
TZID:UTC
BEGIN:STANDARD
TZOFFSETFROM:+0000
TZOFFSETTO:+0000
TZNAME:UTC
DTSTART:20240101T000000
END:STANDARD
END:VTIMEZONE
BEGIN:VEVENT
DTSTART;TZID=UTC:20250809T100000
DTEND;TZID=UTC:20250809T220000
DTSTAMP:20260424T024205
CREATED:20250604T013954Z
LAST-MODIFIED:20250604T014039Z
UID:10000996-1754733600-1754776800@kingdomfire.us
SUMMARY:KINGDOM ENCOUNTER TENT CRUSADE  |   CHEESEBURGER FESTIVAL  |  CASEVILLE\, MICHIGAN
DESCRIPTION:Kingdom Encounter Tent Crusade @ Cheeseburger Fest\nA Powerful Move of God in the Heart of Michigan!📍 Caseville\, MI | August 8–17 | During Cheeseburger Fest \nJoin us for a family-friendly\, faith-filled\, and unforgettable experience during Michigan’s iconic Cheeseburger Fest in Caseville! The Kingdom Encounter Tent Crusade is more than just an event — it’s a movement of unity\, power\, and purpose\, bringing the Body of Christ together to reach the lost and ignite the Church! \nThis 10-day outreach and revival experience will feature something for everyone — from kids to teens to adults hungry for more of God. \n\nKingdom Encounter Tent Crusade @ Cheeseburger Fest\nA Powerful Move of God in the Heart of Michigan!📍 Caseville\, MI | August 8–17 | During Cheeseburger Fest \nJoin us for a family-friendly\, faith-filled\, and unforgettable experience during Michigan’s iconic Cheeseburger Fest in Caseville! The Kingdom Encounter Tent Crusade is more than just an event — it’s a movement of unity\, power\, and purpose\, bringing the Body of Christ together to reach the lost and ignite the Church! \nThis 10-day outreach and revival experience will feature something for everyone — from kids to teens to adults hungry for more of God. \n\n🎉 What’s Happening at Kingdom Encounter?\n✅ Evangelism Equipping SessionsBe trained and empowered to confidently share your faith\, pray for others\, and bring the Kingdom wherever you go. \n✅ Community OutreachHit the streets with others and watch God move as you love on people with boldness and compassion. \n✅ Family Fun Zone \n\n\nBounce Houses \n\n\nGames & Prizes \n\n\nFace Painting \n\n\nInteractive Booths \n\n\nKid-safe activities all day \n\n\n  \n✅ Food & VendorsEnjoy amazing eats from local food trucks\, check out vendor booths\, and grab something for the whole family! \n✅ Live Music & WorshipExperience powerful praise and worship from multiple bands and worship teams each night under the tent. \n✅ Gospel Presentations & Ministry Every NightBring your unsaved friends and family!  Each night will feature a clear\, bold gospel message\, along with healing\, deliverance\, and water baptisms available onsite. \n✅ Water BaptismsCome ready to take that next step — spontaneous baptisms welcome! \n\n💒 United for the Kingdom\nWith 12+ local partner churches already on board\, the heartbeat of this crusade is unity in the Body of Christ — working together to transform our communities through the power of the Gospel. \n\n💥 Don’t Miss This Opportunity!\nWhether you’re looking to get equipped\, experience revival\, introduce your kids to Jesus in a fun atmosphere\, or just enjoy powerful worship and family-friendly activities — Kingdom Encounter is for you. \n📅 August 8–17th📍 Caseville\, MI –  In front of the Wooded Island Sports Grill   6868 Michigan Ave.  Caseville\, MI 48725 \nAdditional Information | Volunteer to Serve | Give Online: 🔗 www.kingdom-encounter.com
URL:https://kingdomfire.us/event/kingdom-encounter-tent-crusade-cheeseburger-festival-caseville-michigan/
LOCATION:Wooded Island Sports Grill\, 6868 Michigan Ave.\, Caseville\, MI\, 48725\, United States
CATEGORIES:Evangelism Equipping,Evangelism Outreach,Kingdom Equipping,Praise Rally,Revival Services,Special Event
ATTACH;FMTTYPE=image/png:https://kingdomfire.us/wp-content/uploads/2025/06/CHEESEBURGER-FLYER-MAIN-2.png
ORGANIZER;CN="Justin Fahrenbruch":MAILTO:Admin@Kingdomfire.us
END:VEVENT
BEGIN:VEVENT
DTSTART;TZID=UTC:20250808T100000
DTEND;TZID=UTC:20250808T220000
DTSTAMP:20260424T024205
CREATED:20250604T013642Z
LAST-MODIFIED:20250604T014140Z
UID:10000995-1754647200-1754690400@kingdomfire.us
SUMMARY:KINGDOM ENCOUNTER TENT CRUSADE  |   CHEESEBURGER FESTIVAL  |  CASEVILLE\, MICHIGAN
DESCRIPTION:Kingdom Encounter Tent Crusade @ Cheeseburger Fest\nA Powerful Move of God in the Heart of Michigan!📍 Caseville\, MI | August 8–17 | During Cheeseburger Fest \nJoin us for a family-friendly\, faith-filled\, and unforgettable experience during Michigan’s iconic Cheeseburger Fest in Caseville! The Kingdom Encounter Tent Crusade is more than just an event — it’s a movement of unity\, power\, and purpose\, bringing the Body of Christ together to reach the lost and ignite the Church! \nThis 10-day outreach and revival experience will feature something for everyone — from kids to teens to adults hungry for more of God. \n\nKingdom Encounter Tent Crusade @ Cheeseburger Fest\nA Powerful Move of God in the Heart of Michigan!📍 Caseville\, MI | August 8–17 | During Cheeseburger Fest \nJoin us for a family-friendly\, faith-filled\, and unforgettable experience during Michigan’s iconic Cheeseburger Fest in Caseville! The Kingdom Encounter Tent Crusade is more than just an event — it’s a movement of unity\, power\, and purpose\, bringing the Body of Christ together to reach the lost and ignite the Church! \nThis 10-day outreach and revival experience will feature something for everyone — from kids to teens to adults hungry for more of God. \n\n🎉 What’s Happening at Kingdom Encounter?\n✅ Evangelism Equipping SessionsBe trained and empowered to confidently share your faith\, pray for others\, and bring the Kingdom wherever you go. \n✅ Community OutreachHit the streets with others and watch God move as you love on people with boldness and compassion. \n✅ Family Fun Zone \n\n\nBounce Houses \n\n\nGames & Prizes \n\n\nFace Painting \n\n\nInteractive Booths \n\n\nKid-safe activities all day \n\n\n  \n✅ Food & VendorsEnjoy amazing eats from local food trucks\, check out vendor booths\, and grab something for the whole family! \n✅ Live Music & WorshipExperience powerful praise and worship from multiple bands and worship teams each night under the tent. \n✅ Gospel Presentations & Ministry Every NightBring your unsaved friends and family!  Each night will feature a clear\, bold gospel message\, along with healing\, deliverance\, and water baptisms available onsite. \n✅ Water BaptismsCome ready to take that next step — spontaneous baptisms welcome! \n\n💒 United for the Kingdom\nWith 12+ local partner churches already on board\, the heartbeat of this crusade is unity in the Body of Christ — working together to transform our communities through the power of the Gospel. \n\n💥 Don’t Miss This Opportunity!\nWhether you’re looking to get equipped\, experience revival\, introduce your kids to Jesus in a fun atmosphere\, or just enjoy powerful worship and family-friendly activities — Kingdom Encounter is for you. \n📅 August 8–17th📍 Caseville\, MI –  In front of the Wooded Island Sports Grill   6868 Michigan Ave.  Caseville\, MI 48725 \nAdditional Information | Volunteer to Serve | Give Online: 🔗 www.kingdom-encounter.com
URL:https://kingdomfire.us/event/kingdom-encounter-tent-crusade/
LOCATION:Wooded Island Sports Grill\, 6868 Michigan Ave.\, Caseville\, MI\, 48725\, United States
CATEGORIES:Evangelism Equipping,Evangelism Outreach,Guest Speaker for Church Service,Kingdom Equipping,Revival Services,Special Event
ATTACH;FMTTYPE=image/png:https://kingdomfire.us/wp-content/uploads/2025/06/CHEESEBURGER-FLYER-MAIN-2.png
ORGANIZER;CN="Justin Fahrenbruch":MAILTO:Admin@Kingdomfire.us
END:VEVENT
BEGIN:VEVENT
DTSTART;TZID=UTC:20250510T120000
DTEND;TZID=UTC:20250510T180000
DTSTAMP:20260424T024205
CREATED:20250421T201148Z
LAST-MODIFIED:20250421T201148Z
UID:10000976-1746878400-1746900000@kingdomfire.us
SUMMARY:Spring For Jesus Unity Event  |  Guest Speaker  |  Munguia-Zamora Ministries - Saginaw\, Michigan
DESCRIPTION:VENDORS NEEDED \n\n\n\nMZ Ministries 2nd Annual SPRING for JESUS UNITY EVENT on May 10th\, 12p – 6pm\, at SVRC Pavilions.\n\n\n\n$25/kid vendor tables (18yrs and under) \n\n\n$35/vendor tables (Food or Craft) \n\n\n$50/food tents \n\n\n$75/food trucks \n\n\n\n\nLast year we had 12 different organizations come together in Saginaw Township to speak\, praise\, and worship JESUS . This year we are bringing it to the city!\n\n\n May 10th\, SVRC Pavilions 12p – 6p\n\n\n\n\n\n\nPlease contact the following to reserve your spot today!!\n\n\n\n Lisa 989-607-8938\n\n\n Tracy 989-992-6976\n\n\n Mark 4:3 \n\nMake every effort to keep the Unity of the Spirit through the bond of peace.
URL:https://kingdomfire.us/event/spring-for-jesus-unity-event-guest-speaker-munguia-zamora-ministries-saginaw-michigan/
LOCATION:SVRC Marketplace – Pavilions\, 203 S. Washington Ave.\, Saginaw\, MI\, 48607\, United States
CATEGORIES:Special Event
ATTACH;FMTTYPE=image/jpeg:https://kingdomfire.us/wp-content/uploads/2025/04/492159533_1432649834571210_3902925371246193254_n.jpg
END:VEVENT
BEGIN:VEVENT
DTSTART;TZID=UTC:20250415T100000
DTEND;TZID=UTC:20250415T120000
DTSTAMP:20260424T024205
CREATED:20250321T202347Z
LAST-MODIFIED:20250321T202347Z
UID:10000965-1744711200-1744718400@kingdomfire.us
SUMMARY:Vision Casting Breakfast Meeting for Pastors and Leaders  |  Cheeseburger Festival Evangelism Crusade
DESCRIPTION:Dear Pastors and Leaders\, \n\nPraying this E-mail finds you prosperous\, in good health and blessed! \nAs you know\, the power of God is moving mightily throughout our region and State!  A great door of opportunity has opened and we believe our Heavenly Father is calling us to unite for a mighty harvest of souls in these last days!  The harvest is plentiful\, and there is a great opportunity for us to come together as one body in Christ to reach our State with the life-changing message of the Gospel. \n\nWe want to invite you to a Vision Casting Breakfast\, where we will gather as Pastors and leaders to seek God’s direction and the potential to partner together for an upcoming Evangelism Revival Crusade this summer\, during Cheeseburger Festival in Caseville\, Michigan. \nWe’re looking for fellow laborers that will help not only to win souls to Christ\, but also make sure they have a place to call “home” after they receive him as their Lord and Savior. \n\nThis will be a time of fellowship\, prayer and purpose – A moment to share the vision\, align our hearts and strategize on how we can reach our State for Christ together.  The request for your voice\, leadership\, passion for souls and role of discipleship will be of utmost importance in this mission. \n\nThis crusade will be more than just an event…  It’s a movement to bring unity\, ignite revival\, equip believers\, transform lives and our entire region all for the glory of God.  Your presence and partnership are vital as we seek to make an eternal impact together. \n\nWould you prayerfully consider to join hands with us in this great commission?  Let’s make a lasting impact for future generations to come – Revival can only start when we come together! \n\nContinental Breakfast will be provided \n\n Date: Tuesday\, April 15th 2025\nLocation: Lifesong Church – Snover\, MI 48472\nTime: 10:00AM – 12:00PM \nCost: This is a free event.  Please RSVP \n\nWe would love to have you with us.   Please RSVP by April 8th so we can prepare for you!  (Click link below to easily RSVP) \n\nhttps://docs.google.com/forms/d/e/1FAIpQLSfokQMk5lKgD7GSkqim__v1S4xdj2H9T2dNPxmV9cz2myVkcw/viewform?fbclid=IwY2xjawI4Ir1leHRuA2FlbQIxMAABHen9p0EwUFxVxm1LbnYpTXd-t51rX3bVmgBgXP9wxxXSpkEdq9Sd_0E-_g_aem__TXclRdoJcPtxdsfUY8AVw \n\n* Please feel free to share and invite other Pastors or Ministry Leaders to this Visionary Breakfast. \n\nBelow\, you’ll find brief bios of the ministry leaders who will be speaking and joining us: \nJeff Kramer \nExecutive Director\, Encounter Ministries of Michigan. \nJeff Kramer is living proof that no one is beyond the reach of grace. Born into an anti-Christian cult and raised to become a vocal member\, Jeff’s life took a radical turn six years ago when he experienced a transformative encounter with Jesus Christ. Now walking in power\, love\, and freedom\, he has broken free from the chains of sexual addiction\, alcohol and substance abuse—and he’s on a mission to help others do the same. \nJeff serves as the executive director of Encounter Ministries of Michigan\, which he founded to bring the life-changing gospel of Jesus to others seeking hope\, healing & deliverance. He’s also a pastor of Awaken Deckerville\, a vibrant church in Deckerville\, MI\, and the founder of Emersion Life\, a sober living home for women in Caro\, MI. There\, he and his wife lead with compassion\, helping women overcome addiction\, reclaim their lives\, and discovering their identity in Christ. \nJeff has been joyfully married to his wife for 22 years\, and together they homeschool their six incredible kids—a lively household full of faith\, learning\, and a lot of love. His family is the foundation of his ministry and a daily reminder of God’s redemptive power. \nWhether preaching\, leading small groups\, or offering a listening ear\, Jeff is dedicated to building people up and helping them discover their God-given identity and purpose. He believes every story holds the potential for redemption and is living his with passion\, purpose and FREEDOM!!! \nTim Grisham \nTim Grisham Ministries\, Great Commission Network \nTim Grisham is a dedicated evangelist with a powerful testimony and a mission to spread the gospel around the world. Since 1980\, he and his wife\, Peggy\, have committed their lives to following Jesus. Ordained in 1984 under Pastor Bob Nichols at Calvary Cathedral in Fort Worth\, Texas\, Tim has since traveled to 34 countries\, organizing nearly 100 evangelistic outreaches around the world. His ministry has taken him to remote and challenging places\, such as jungle villages\, mountain regions\, and even the garbage dumps of Romania and Mexico\, where he has shared the message of hope and salvation\, built homes and churches. His wife Peggy\, their daughters and their families are involved in the work of The Lord. The fact that their entire family loves and serves The Lord (some of them are missionaries in Romania) is a powerful testimony to the lasting influence of their following Jesus. \nTim’s belief in the five-fold ministry\, as outlined in Ephesians 4:11\, underpins his approach to ministry. By focusing on equipping and encouraging the body of Christ\, he helps believers realize their calling as ministers of reconciliation and ambassadors for Christ. Through practical and supernatural tools\, he inspires believers to actively reach the lost. \nTim Grisham Ministries (TGM) and the “Great Commission Network” has also made an impact in the United States. By organizing city-wide outreaches\, national events\, and tent revivals\, such as “Awake America” and “Hope for America\,” Tim has not only reached people who don’t know Christ but has also stirred churches to be more proactive in evangelism. \nTim’s life and ministry are a testament to his commitment to evangelism and his belief in empowering the Church to reach the world with the Gospel of Jesus Christ. \nJustin Fahrenbruch \nFounder and President of Kingdom Fire Ministries \n\nJustin was a drug addict for 14 years of his life.  In 2018 he was miraculously delivered from the addiction when a chain of events led to the surrender of His life to Christ in the middle of a Bell Tire parking lot.  After the radical encounter\, He asked God to show him the truth.  Holy Spirit led him to the Gospel of the Kingdom – A message of love\, power\, and hope… The good news of how to live a victorious life while living here on earth. \n  \nJustin is recognized by the International Apostolic Council as an Ordained Minister of the Gospel.  He has completed and obtained his degree through John G Lake Ministries\, Dominion Bible Institute. \n  \nJustin is currently serving the body of Christ as an Apostolic Evangelist\, partnering with many churches and ministries to infiltrate their communities with the love of Christ.  He travels the United States sharing his story\, preaching\, and demonstrating the Gospel of the Kingdom while equipping the Saints for the work of the ministry. \n\nMarried to his beautiful wife Candace of 11 years\, they recently welcomed their third child into the world.  Two beautiful daughters and their newborn son all travel together and serve as full-time Missionary-Evangelists.  They founded Kingdom Fire Ministries in 2020\, in the middle of the COVID pandemic after the LORD spoke to them to bring “the church” to the streets. Since that time\, they’ve traveled the State hosting over 70 Revival Crusades and Outreach events\, partnering with many different ministries and churches to reach the lost at every event. \n\nTheir mission is to ignite hearts\, transform lives\, bring unity to the body of Christ and transform communities with the love of Jesus Christ. \nAny questions\, please contact Justin Fahrenbruch @ 989-737-9124 \nThank you for your time\,
URL:https://kingdomfire.us/event/vision-casting-breakfast-meeting-for-pastors-and-leaders-cheeseburger-festival-evangelism-crusade/
LOCATION:Lifesong Church\, 5208 Sanilac Rd.\, Snover\, MI\, 48472\, United States
CATEGORIES:Special Event
ATTACH;FMTTYPE=image/jpeg:https://kingdomfire.us/wp-content/uploads/2025/03/Black-Maximalist-Family-And-Friends-Day-Insta-8.jpg
ORGANIZER;CN="Justin Fahrenbruch":MAILTO:Admin@Kingdomfire.us
END:VEVENT
END:VCALENDAR