BEGIN:VCALENDAR
VERSION:2.0
PRODID:-//Kingdom Fire - ECPv6.15.20//NONSGML v1.0//EN
CALSCALE:GREGORIAN
METHOD:PUBLISH
X-WR-CALNAME:Kingdom Fire
X-ORIGINAL-URL:https://kingdomfire.us
X-WR-CALDESC:Events for Kingdom Fire
REFRESH-INTERVAL;VALUE=DURATION:PT1H
X-Robots-Tag:noindex
X-PUBLISHED-TTL:PT1H
BEGIN:VTIMEZONE
TZID:UTC
BEGIN:STANDARD
TZOFFSETFROM:+0000
TZOFFSETTO:+0000
TZNAME:UTC
DTSTART:20210101T000000
END:STANDARD
END:VTIMEZONE
BEGIN:VEVENT
DTSTART;TZID=UTC:20250817T100000
DTEND;TZID=UTC:20250817T150000
DTSTAMP:20260424T060102
CREATED:20250604T021116Z
LAST-MODIFIED:20250604T021116Z
UID:10001003-1755424800-1755442800@kingdomfire.us
SUMMARY:KINGDOM ENCOUNTER TENT CRUSADE  |   UNITY CHURCH SERVICE  |  CASEVILLE\, MICHIGAN
DESCRIPTION:Sunday\, August 17 — Regional Unity Service & Celebration\n🙌 One Church. One Voice. One Mission. \nAs the Kingdom Encounter Tent Crusade comes to a close\, we’re inviting believers from across the region to gather as one Body for a powerful Sunday morning service like no other — right under the tent where it all began. \nThis is more than a service — it’s a celebration of what God has done\, a testimony of Kingdom impact\, and a prophetic declaration of what’s still to come! \n\n✝️ What to Expect:\n🎤 Incredible TestimoniesHear firsthand from those whose lives were transformed throughout the week — salvations\, healings\, baptisms\, deliverance\, and bold steps of faith. \n🕊️ Live WorshipJoin worship teams from partnering churches as we lift up one sound of praise to the One who brought the harvest. \n📖 Kingdom EncouragementReceive a timely and powerful word to strengthen\, refresh\, and equip you as we carry the fire back into our churches\, cities\, and communities. \n🍽️ Free Lunch for EveryoneBreak bread together and enjoy free lunch immediately following the service — because family eats together! \n\n🔥 Let’s Declare It Together:\n\n\nThe Gospel was preached. \n\n\nThe lost were found. \n\n\nThe Church was mobilized. \n\n\nThe Kingdom of God advanced! \n\n\nIf you’ve been a part of this week\, come back to celebrate.If you missed the tent\, this is your moment to catch the fire.If you long to see revival in your region\, come and be refreshed. \n\n💒 Unified. Empowered. Sent.\n📅 Sunday\, August 17🕙 Service Begins at 10:00 AM📍 Under the Tent – Caseville\, MI🍽️ Free lunch to follow!🔗 www.kingdom-encounter.com \nLet’s finish together what God started — as one Church\, united in Christ.Let’s celebrate the harvest. Let’s move forward in power.
URL:https://kingdomfire.us/event/kingdom-encounter-tent-crusade-unity-church-service-caseville-michigan/
LOCATION:Wooded Island Sports Grill\, 6868 Michigan Ave.\, Caseville\, MI\, 48725\, United States
CATEGORIES:Church Event,Praise Rally,Revival Services,Special Event
ATTACH;FMTTYPE=image/png:https://kingdomfire.us/wp-content/uploads/2025/06/CHEESEBURGER-FLYER-MAIN-2.png
ORGANIZER;CN="Justin Fahrenbruch":MAILTO:Admin@Kingdomfire.us
END:VEVENT
BEGIN:VEVENT
DTSTART;TZID=UTC:20250815T100000
DTEND;TZID=UTC:20250815T220000
DTSTAMP:20260424T060102
CREATED:20250604T020457Z
LAST-MODIFIED:20250604T020457Z
UID:10001001-1755252000-1755295200@kingdomfire.us
SUMMARY:KINGDOM ENCOUNTER TENT CRUSADE  |   CHEESEBURGER FESTIVAL  |  CASEVILLE\, MICHIGAN
DESCRIPTION:Kingdom Encounter Tent Crusade @ Cheeseburger Fest\nA Powerful Move of God in the Heart of Michigan!📍 Caseville\, MI | August 8–17 | During Cheeseburger Fest \nJoin us for a family-friendly\, faith-filled\, and unforgettable experience during Michigan’s iconic Cheeseburger Fest in Caseville! The Kingdom Encounter Tent Crusade is more than just an event — it’s a movement of unity\, power\, and purpose\, bringing the Body of Christ together to reach the lost and ignite the Church! \nThis 10-day outreach and revival experience will feature something for everyone — from kids to teens to adults hungry for more of God. \n\nKingdom Encounter Tent Crusade @ Cheeseburger Fest\nA Powerful Move of God in the Heart of Michigan!📍 Caseville\, MI | August 8–17 | During Cheeseburger Fest \nJoin us for a family-friendly\, faith-filled\, and unforgettable experience during Michigan’s iconic Cheeseburger Fest in Caseville! The Kingdom Encounter Tent Crusade is more than just an event — it’s a movement of unity\, power\, and purpose\, bringing the Body of Christ together to reach the lost and ignite the Church! \nThis 10-day outreach and revival experience will feature something for everyone — from kids to teens to adults hungry for more of God. \n\n🎉 What’s Happening at Kingdom Encounter?\n✅ Evangelism Equipping SessionsBe trained and empowered to confidently share your faith\, pray for others\, and bring the Kingdom wherever you go. \n✅ Community OutreachHit the streets with others and watch God move as you love on people with boldness and compassion. \n✅ Family Fun Zone \n\n\nBounce Houses \n\n\nGames & Prizes \n\n\nFace Painting \n\n\nInteractive Booths \n\n\nKid-safe activities all day \n\n\n  \n✅ Food & VendorsEnjoy amazing eats from local food trucks\, check out vendor booths\, and grab something for the whole family! \n✅ Live Music & WorshipExperience powerful praise and worship from multiple bands and worship teams each night under the tent. \n✅ Gospel Presentations & Ministry Every NightBring your unsaved friends and family!  Each night will feature a clear\, bold gospel message\, along with healing\, deliverance\, and water baptisms available onsite. \n✅ Water BaptismsCome ready to take that next step — spontaneous baptisms welcome! \n\n💒 United for the Kingdom\nWith 12+ local partner churches already on board\, the heartbeat of this crusade is unity in the Body of Christ — working together to transform our communities through the power of the Gospel. \n\n💥 Don’t Miss This Opportunity!\nWhether you’re looking to get equipped\, experience revival\, introduce your kids to Jesus in a fun atmosphere\, or just enjoy powerful worship and family-friendly activities — Kingdom Encounter is for you. \n📅 August 8–17th📍 Caseville\, MI –  In front of the Wooded Island Sports Grill   6868 Michigan Ave.  Caseville\, MI 48725 \nAdditional Information | Volunteer to Serve | Give Online: 🔗 www.kingdom-encounter.com
URL:https://kingdomfire.us/event/kingdom-encounter-tent-crusade-cheeseburger-festival-caseville-michigan-5/
LOCATION:Wooded Island Sports Grill\, 6868 Michigan Ave.\, Caseville\, MI\, 48725\, United States
CATEGORIES:Evangelism Equipping,Evangelism Outreach,Kingdom Equipping,Praise Rally,Revival Services,Special Event
ATTACH;FMTTYPE=image/png:https://kingdomfire.us/wp-content/uploads/2025/06/CHEESEBURGER-FLYER-MAIN-2.png
ORGANIZER;CN="Justin Fahrenbruch":MAILTO:Admin@Kingdomfire.us
END:VEVENT
BEGIN:VEVENT
DTSTART;TZID=UTC:20250814T100000
DTEND;TZID=UTC:20250814T220000
DTSTAMP:20260424T060102
CREATED:20250604T020206Z
LAST-MODIFIED:20250604T020206Z
UID:10001000-1755165600-1755208800@kingdomfire.us
SUMMARY:KINGDOM ENCOUNTER TENT CRUSADE  |   CHEESEBURGER FESTIVAL  |  CASEVILLE\, MICHIGAN
DESCRIPTION:Kingdom Encounter Tent Crusade @ Cheeseburger Fest\nA Powerful Move of God in the Heart of Michigan!📍 Caseville\, MI | August 8–17 | During Cheeseburger Fest \nJoin us for a family-friendly\, faith-filled\, and unforgettable experience during Michigan’s iconic Cheeseburger Fest in Caseville! The Kingdom Encounter Tent Crusade is more than just an event — it’s a movement of unity\, power\, and purpose\, bringing the Body of Christ together to reach the lost and ignite the Church! \nThis 10-day outreach and revival experience will feature something for everyone — from kids to teens to adults hungry for more of God. \n\nKingdom Encounter Tent Crusade @ Cheeseburger Fest\nA Powerful Move of God in the Heart of Michigan!📍 Caseville\, MI | August 8–17 | During Cheeseburger Fest \nJoin us for a family-friendly\, faith-filled\, and unforgettable experience during Michigan’s iconic Cheeseburger Fest in Caseville! The Kingdom Encounter Tent Crusade is more than just an event — it’s a movement of unity\, power\, and purpose\, bringing the Body of Christ together to reach the lost and ignite the Church! \nThis 10-day outreach and revival experience will feature something for everyone — from kids to teens to adults hungry for more of God. \n\n🎉 What’s Happening at Kingdom Encounter?\n✅ Evangelism Equipping SessionsBe trained and empowered to confidently share your faith\, pray for others\, and bring the Kingdom wherever you go. \n✅ Community OutreachHit the streets with others and watch God move as you love on people with boldness and compassion. \n✅ Family Fun Zone \n\n\nBounce Houses \n\n\nGames & Prizes \n\n\nFace Painting \n\n\nInteractive Booths \n\n\nKid-safe activities all day \n\n\n  \n✅ Food & VendorsEnjoy amazing eats from local food trucks\, check out vendor booths\, and grab something for the whole family! \n✅ Live Music & WorshipExperience powerful praise and worship from multiple bands and worship teams each night under the tent. \n✅ Gospel Presentations & Ministry Every NightBring your unsaved friends and family!  Each night will feature a clear\, bold gospel message\, along with healing\, deliverance\, and water baptisms available onsite. \n✅ Water BaptismsCome ready to take that next step — spontaneous baptisms welcome! \n\n💒 United for the Kingdom\nWith 12+ local partner churches already on board\, the heartbeat of this crusade is unity in the Body of Christ — working together to transform our communities through the power of the Gospel. \n\n💥 Don’t Miss This Opportunity!\nWhether you’re looking to get equipped\, experience revival\, introduce your kids to Jesus in a fun atmosphere\, or just enjoy powerful worship and family-friendly activities — Kingdom Encounter is for you. \n📅 August 8–17th📍 Caseville\, MI –  In front of the Wooded Island Sports Grill   6868 Michigan Ave.  Caseville\, MI 48725 \nAdditional Information | Volunteer to Serve | Give Online: 🔗 www.kingdom-encounter.com
URL:https://kingdomfire.us/event/kingdom-encounter-tent-crusade-cheeseburger-festival-caseville-michigan-4/
LOCATION:Wooded Island Sports Grill\, 6868 Michigan Ave.\, Caseville\, MI\, 48725\, United States
CATEGORIES:Equipping Class,Evangelism Equipping,Praise Rally,Revival Services,Special Event
ATTACH;FMTTYPE=image/png:https://kingdomfire.us/wp-content/uploads/2025/06/CHEESEBURGER-FLYER-MAIN-2.png
ORGANIZER;CN="Justin Fahrenbruch":MAILTO:Admin@Kingdomfire.us
END:VEVENT
BEGIN:VEVENT
DTSTART;TZID=UTC:20250812T100000
DTEND;TZID=UTC:20250812T220000
DTSTAMP:20260424T060102
CREATED:20250604T014743Z
LAST-MODIFIED:20250604T014743Z
UID:10000998-1754992800-1755036000@kingdomfire.us
SUMMARY:KINGDOM ENCOUNTER TENT CRUSADE  |   CHEESEBURGER FESTIVAL  |  CASEVILLE\, MICHIGAN
DESCRIPTION:Kingdom Encounter Tent Crusade @ Cheeseburger Fest\nA Powerful Move of God in the Heart of Michigan!📍 Caseville\, MI | August 8–17 | During Cheeseburger Fest \nJoin us for a family-friendly\, faith-filled\, and unforgettable experience during Michigan’s iconic Cheeseburger Fest in Caseville! The Kingdom Encounter Tent Crusade is more than just an event — it’s a movement of unity\, power\, and purpose\, bringing the Body of Christ together to reach the lost and ignite the Church! \nThis 10-day outreach and revival experience will feature something for everyone — from kids to teens to adults hungry for more of God. \n\nKingdom Encounter Tent Crusade @ Cheeseburger Fest\nA Powerful Move of God in the Heart of Michigan!📍 Caseville\, MI | August 8–17 | During Cheeseburger Fest \nJoin us for a family-friendly\, faith-filled\, and unforgettable experience during Michigan’s iconic Cheeseburger Fest in Caseville! The Kingdom Encounter Tent Crusade is more than just an event — it’s a movement of unity\, power\, and purpose\, bringing the Body of Christ together to reach the lost and ignite the Church! \nThis 10-day outreach and revival experience will feature something for everyone — from kids to teens to adults hungry for more of God. \n\n🎉 What’s Happening at Kingdom Encounter?\n✅ Evangelism Equipping SessionsBe trained and empowered to confidently share your faith\, pray for others\, and bring the Kingdom wherever you go. \n✅ Community OutreachHit the streets with others and watch God move as you love on people with boldness and compassion. \n✅ Family Fun Zone \n\n\nBounce Houses \n\n\nGames & Prizes \n\n\nFace Painting \n\n\nInteractive Booths \n\n\nKid-safe activities all day \n\n\n  \n✅ Food & VendorsEnjoy amazing eats from local food trucks\, check out vendor booths\, and grab something for the whole family! \n✅ Live Music & WorshipExperience powerful praise and worship from multiple bands and worship teams each night under the tent. \n✅ Gospel Presentations & Ministry Every NightBring your unsaved friends and family!  Each night will feature a clear\, bold gospel message\, along with healing\, deliverance\, and water baptisms available onsite. \n✅ Water BaptismsCome ready to take that next step — spontaneous baptisms welcome! \n\n💒 United for the Kingdom\nWith 12+ local partner churches already on board\, the heartbeat of this crusade is unity in the Body of Christ — working together to transform our communities through the power of the Gospel. \n\n💥 Don’t Miss This Opportunity!\nWhether you’re looking to get equipped\, experience revival\, introduce your kids to Jesus in a fun atmosphere\, or just enjoy powerful worship and family-friendly activities — Kingdom Encounter is for you. \n📅 August 8–17th📍 Caseville\, MI –  In front of the Wooded Island Sports Grill   6868 Michigan Ave.  Caseville\, MI 48725 \nAdditional Information | Volunteer to Serve | Give Online: 🔗 www.kingdom-encounter.com
URL:https://kingdomfire.us/event/kingdom-encounter-tent-crusade-cheeseburger-festival-caseville-michigan-3/
LOCATION:Wooded Island Sports Grill\, 6868 Michigan Ave.\, Caseville\, MI\, 48725\, United States
CATEGORIES:Evangelism Equipping,Evangelism Outreach,Kingdom Equipping,Praise Rally,Revival Services,Special Event
ATTACH;FMTTYPE=image/png:https://kingdomfire.us/wp-content/uploads/2025/06/CHEESEBURGER-FLYER-MAIN-2.png
ORGANIZER;CN="Justin Fahrenbruch":MAILTO:Admin@Kingdomfire.us
END:VEVENT
BEGIN:VEVENT
DTSTART;TZID=UTC:20250811T100000
DTEND;TZID=UTC:20250811T220000
DTSTAMP:20260424T060102
CREATED:20250604T014451Z
LAST-MODIFIED:20250604T014927Z
UID:10000997-1754906400-1754949600@kingdomfire.us
SUMMARY:KINGDOM ENCOUNTER TENT CRUSADE  |   CHEESEBURGER FESTIVAL  |  CASEVILLE\, MICHIGAN
DESCRIPTION:Kingdom Encounter Tent Crusade @ Cheeseburger Fest\nA Powerful Move of God in the Heart of Michigan!📍 Caseville\, MI | August 8–17 | During Cheeseburger Fest \nJoin us for a family-friendly\, faith-filled\, and unforgettable experience during Michigan’s iconic Cheeseburger Fest in Caseville! The Kingdom Encounter Tent Crusade is more than just an event — it’s a movement of unity\, power\, and purpose\, bringing the Body of Christ together to reach the lost and ignite the Church! \nThis 10-day outreach and revival experience will feature something for everyone — from kids to teens to adults hungry for more of God. \n\nKingdom Encounter Tent Crusade @ Cheeseburger Fest\nA Powerful Move of God in the Heart of Michigan!📍 Caseville\, MI | August 8–17 | During Cheeseburger Fest \nJoin us for a family-friendly\, faith-filled\, and unforgettable experience during Michigan’s iconic Cheeseburger Fest in Caseville! The Kingdom Encounter Tent Crusade is more than just an event — it’s a movement of unity\, power\, and purpose\, bringing the Body of Christ together to reach the lost and ignite the Church! \nThis 10-day outreach and revival experience will feature something for everyone — from kids to teens to adults hungry for more of God. \n\n🎉 What’s Happening at Kingdom Encounter?\n✅ Evangelism Equipping SessionsBe trained and empowered to confidently share your faith\, pray for others\, and bring the Kingdom wherever you go. \n✅ Community OutreachHit the streets with others and watch God move as you love on people with boldness and compassion. \n✅ Family Fun Zone \n\n\nBounce Houses \n\n\nGames & Prizes \n\n\nFace Painting \n\n\nInteractive Booths \n\n\nKid-safe activities all day \n\n\n  \n✅ Food & VendorsEnjoy amazing eats from local food trucks\, check out vendor booths\, and grab something for the whole family! \n✅ Live Music & WorshipExperience powerful praise and worship from multiple bands and worship teams each night under the tent. \n✅ Gospel Presentations & Ministry Every NightBring your unsaved friends and family!  Each night will feature a clear\, bold gospel message\, along with healing\, deliverance\, and water baptisms available onsite. \n✅ Water BaptismsCome ready to take that next step — spontaneous baptisms welcome! \n\n💒 United for the Kingdom\nWith 12+ local partner churches already on board\, the heartbeat of this crusade is unity in the Body of Christ — working together to transform our communities through the power of the Gospel. \n\n💥 Don’t Miss This Opportunity!\nWhether you’re looking to get equipped\, experience revival\, introduce your kids to Jesus in a fun atmosphere\, or just enjoy powerful worship and family-friendly activities — Kingdom Encounter is for you. \n📅 August 8–17th📍 Caseville\, MI –  In front of the Wooded Island Sports Grill   6868 Michigan Ave.  Caseville\, MI 48725 \nAdditional Information | Volunteer to Serve | Give Online: 🔗 www.kingdom-encounter.com
URL:https://kingdomfire.us/event/kingdom-encounter-tent-crusade-cheeseburger-festival-caseville-michigan-2/
LOCATION:Wooded Island Sports Grill\, 6868 Michigan Ave.\, Caseville\, MI\, 48725\, United States
CATEGORIES:Evangelism Equipping,Evangelism Outreach,Kingdom Equipping,Praise Rally,Revival Services,Special Event
ATTACH;FMTTYPE=image/png:https://kingdomfire.us/wp-content/uploads/2025/06/CHEESEBURGER-FLYER-MAIN-2.png
ORGANIZER;CN="Justin Fahrenbruch":MAILTO:Admin@Kingdomfire.us
END:VEVENT
BEGIN:VEVENT
DTSTART;TZID=UTC:20250809T100000
DTEND;TZID=UTC:20250809T220000
DTSTAMP:20260424T060102
CREATED:20250604T013954Z
LAST-MODIFIED:20250604T014039Z
UID:10000996-1754733600-1754776800@kingdomfire.us
SUMMARY:KINGDOM ENCOUNTER TENT CRUSADE  |   CHEESEBURGER FESTIVAL  |  CASEVILLE\, MICHIGAN
DESCRIPTION:Kingdom Encounter Tent Crusade @ Cheeseburger Fest\nA Powerful Move of God in the Heart of Michigan!📍 Caseville\, MI | August 8–17 | During Cheeseburger Fest \nJoin us for a family-friendly\, faith-filled\, and unforgettable experience during Michigan’s iconic Cheeseburger Fest in Caseville! The Kingdom Encounter Tent Crusade is more than just an event — it’s a movement of unity\, power\, and purpose\, bringing the Body of Christ together to reach the lost and ignite the Church! \nThis 10-day outreach and revival experience will feature something for everyone — from kids to teens to adults hungry for more of God. \n\nKingdom Encounter Tent Crusade @ Cheeseburger Fest\nA Powerful Move of God in the Heart of Michigan!📍 Caseville\, MI | August 8–17 | During Cheeseburger Fest \nJoin us for a family-friendly\, faith-filled\, and unforgettable experience during Michigan’s iconic Cheeseburger Fest in Caseville! The Kingdom Encounter Tent Crusade is more than just an event — it’s a movement of unity\, power\, and purpose\, bringing the Body of Christ together to reach the lost and ignite the Church! \nThis 10-day outreach and revival experience will feature something for everyone — from kids to teens to adults hungry for more of God. \n\n🎉 What’s Happening at Kingdom Encounter?\n✅ Evangelism Equipping SessionsBe trained and empowered to confidently share your faith\, pray for others\, and bring the Kingdom wherever you go. \n✅ Community OutreachHit the streets with others and watch God move as you love on people with boldness and compassion. \n✅ Family Fun Zone \n\n\nBounce Houses \n\n\nGames & Prizes \n\n\nFace Painting \n\n\nInteractive Booths \n\n\nKid-safe activities all day \n\n\n  \n✅ Food & VendorsEnjoy amazing eats from local food trucks\, check out vendor booths\, and grab something for the whole family! \n✅ Live Music & WorshipExperience powerful praise and worship from multiple bands and worship teams each night under the tent. \n✅ Gospel Presentations & Ministry Every NightBring your unsaved friends and family!  Each night will feature a clear\, bold gospel message\, along with healing\, deliverance\, and water baptisms available onsite. \n✅ Water BaptismsCome ready to take that next step — spontaneous baptisms welcome! \n\n💒 United for the Kingdom\nWith 12+ local partner churches already on board\, the heartbeat of this crusade is unity in the Body of Christ — working together to transform our communities through the power of the Gospel. \n\n💥 Don’t Miss This Opportunity!\nWhether you’re looking to get equipped\, experience revival\, introduce your kids to Jesus in a fun atmosphere\, or just enjoy powerful worship and family-friendly activities — Kingdom Encounter is for you. \n📅 August 8–17th📍 Caseville\, MI –  In front of the Wooded Island Sports Grill   6868 Michigan Ave.  Caseville\, MI 48725 \nAdditional Information | Volunteer to Serve | Give Online: 🔗 www.kingdom-encounter.com
URL:https://kingdomfire.us/event/kingdom-encounter-tent-crusade-cheeseburger-festival-caseville-michigan/
LOCATION:Wooded Island Sports Grill\, 6868 Michigan Ave.\, Caseville\, MI\, 48725\, United States
CATEGORIES:Evangelism Equipping,Evangelism Outreach,Kingdom Equipping,Praise Rally,Revival Services,Special Event
ATTACH;FMTTYPE=image/png:https://kingdomfire.us/wp-content/uploads/2025/06/CHEESEBURGER-FLYER-MAIN-2.png
ORGANIZER;CN="Justin Fahrenbruch":MAILTO:Admin@Kingdomfire.us
END:VEVENT
BEGIN:VEVENT
DTSTART;TZID=UTC:20230707T190000
DTEND;TZID=UTC:20230707T203000
DTSTAMP:20260424T060102
CREATED:20230706T013218Z
LAST-MODIFIED:20230706T013239Z
UID:10000190-1688756400-1688761800@kingdomfire.us
SUMMARY:Ignite The Thumb | Port Huron | Blue Water Christian Church
DESCRIPTION:Headed back out to our friends at Blue Water Christian Church in Port Huron\, Michigan as they host this month’s Praise Rally!!\n\n\n\nPraise Rallies are powerful warfare\, as more churches and leaders come together to fulfill Jesus’ prophecy:’\n\n\n\nJohn 17:20-21\n“I do not pray for these alone\, but also for those who will believe in Me through their word; that they all may be one\, as You\, Father\, are in Me\, and I in You; that they also may be one in Us\, that the world may believe that You sent Me.”\n\n\n\nCome on out\, support and what the Lord is doing in the Thumb of Michigan!\n\n\n\n#UNITE\n#IGNITE\n#THETHUMB\n\n\n\nLet’s Get our Praise on!
URL:https://kingdomfire.us/event/ignite-the-thumb-port-huron-blue-water-christian-church/
LOCATION:Blue Water Christian Church\, 1331 Chestnut St.\, Port Huron\, MI\, 48060\, United States
CATEGORIES:Praise Rally
ATTACH;FMTTYPE=image/jpeg:https://kingdomfire.us/wp-content/uploads/2023/07/7-7-23-Ignite-Praise--scaled.jpg
END:VEVENT
BEGIN:VEVENT
DTSTART;TZID=UTC:20230602T150000
DTEND;TZID=UTC:20230602T200000
DTSTAMP:20260424T060102
CREATED:20230428T014031Z
LAST-MODIFIED:20230428T014635Z
UID:10000180-1685718000-1685736000@kingdomfire.us
SUMMARY:Walking Your Faith | Youth Gathering - Elevation Worship | Brown City\, MI
DESCRIPTION:**Justin Fahrenbruch will be sharing his testimony to the youth at the Event** \nAn experience of teaching and faith building by Shane Willard. Praise & worship with Elevation Rhythm headlining the event. \nA summer festival atmosphere that includes teaching\, praise and fellowship activities. \nKeynote speaker: Shane Willard is known for being a brilliant\, informative and humorous communicator. Shane will be teaching about defending your faith in a world that is becoming increasingly intolerant of Christian beliefs. Shane Willard Ministries \nHeadliner: Elevation Rhythm A new expression coming out of Elevation Church with youth and young adults as their mission field. Elevation Rhythm You Tube Instagram \nGates will open at 3:00 with access to food trailers and sponsor tents \nTabernacle will open at 5:00 \nCamping available: call 810-346-2480 \nEastman Tabernacle Brown City Camp venue details Brown City Camp \nParking the day of the event will be in the front lot and west field. \n  \n“Walking Your Faith” was born out of the desire to advance the Kingdom and create a spirit of oneness within the ever increasing Body of Christ. Our goal is to create an environment of praise and fellowship\, welcoming the Holy Spirit to impact lives. \n  \nYouTube Promo Video:
URL:https://kingdomfire.us/event/walking-your-faith-youth-gathering-elevation-worship-brown-city-mi/
LOCATION:Brown City Camp\, 8700 Wilcox Rd.\, Brown City\, MI\, 48416\, United States
CATEGORIES:Guest Speaker at Conference,Praise Rally
ATTACH;FMTTYPE=application/pdf:https://kingdomfire.us/wp-content/uploads/2023/04/correct-flyer4-26-1.pdf
END:VEVENT
BEGIN:VEVENT
DTSTART;TZID=UTC:20230428T190000
DTEND;TZID=UTC:20230428T203000
DTSTAMP:20260424T060102
CREATED:20230405T184219Z
LAST-MODIFIED:20230426T025204Z
UID:10000161-1682708400-1682713800@kingdomfire.us
SUMMARY:Ignite The Thumb - Bad Axe
DESCRIPTION:Headed back out to our friends at Faith Gospel Tabernacle in Bad Axe\, Michigan as they host this month’s Praise Rally!!\n\n\n\nPraise Rallies are powerful warfare\, as more churches and leaders come together to fulfill Jesus’ prophecy:’\n\n\n\nJohn 17:20-21\n“I do not pray for these alone\, but also for those who will believe in Me through their word; that they all may be one\, as You\, Father\, are in Me\, and I in You; that they also may be one in Us\, that the world may believe that You sent Me.”\n\n\n\nCome on out\, support and what the Lord is doing in the Thumb of Michigan!\n\n\n\n#UNITE\n#IGNITE\n#THETHUMB\n\n\n\nLet’s Get our Praise on!
URL:https://kingdomfire.us/event/ignite-the-thumb-bad-axe/
LOCATION:Faith Gospel Tabernacle\, 3108 Rescue Rd.\, Bad Axe\, MI\, 48413\, United States
CATEGORIES:Praise Rally
ATTACH;FMTTYPE=image/jpeg:https://kingdomfire.us/wp-content/uploads/2023/04/image_6483441-scaled.jpg
END:VEVENT
BEGIN:VEVENT
DTSTART;TZID=UTC:20230310T190000
DTEND;TZID=UTC:20230310T210000
DTSTAMP:20260424T060102
CREATED:20230306T203402Z
LAST-MODIFIED:20230306T203437Z
UID:10000100-1678474800-1678482000@kingdomfire.us
SUMMARY:Ignite The Thumb Praise Rally
DESCRIPTION:A new church added to Ignite the Thumb Ministry team; Anchor Cove Church!!\n\n\n\nPraise Rallies are powerful warfare\, as more churches and leaders come together to fulfill Jesus’ prophecy:\n\n\nJohn 17:20-21\n“I do not pray for these alone\, but also for those who will believe in Me through their word; that they all may be one\, as You\, Father\, are in Me\, and I in You; that they also may be one in Us\, that the world may believe that You sent Me.”\n\n\n\nCome on out\, support and what the Lord is doing in the Thumb of Michigan!\n\n\n\n#UNITE\n#IGNITE\n#THETHUMB\n\n\n\nLet’s Get our Praise on!
URL:https://kingdomfire.us/event/ignite-the-thumb-praise-rally/
LOCATION:Anchor Cove Church\, 201 Sanilac Rd.\, Caro\, MI\, 48723\, United States
CATEGORIES:Praise Rally
ATTACH;FMTTYPE=image/png:https://kingdomfire.us/wp-content/uploads/2023/03/Poster-Ignite-Anchor-Cove-1-1.png
END:VEVENT
BEGIN:VEVENT
DTSTART;TZID=UTC:20221029T180000
DTEND;TZID=UTC:20221029T203000
DTSTAMP:20260424T060102
CREATED:20221019T192652Z
LAST-MODIFIED:20221019T192652Z
UID:10000145-1667066400-1667075400@kingdomfire.us
SUMMARY:"Not Ashamed" Praise Rally
DESCRIPTION:Did you hear the prophecy about Michigan that Dutch Sheets just gave from his program Give Him 15? How about Apostle Barbara Yoder’s word last week?\n\n\n\nWow!! This speaks directly to the “Ignite the Thumb” Rallies!\n\n\nSomething very powerful is happening\, especially in the Thumb of Michigan!\n\n\n\nYou don’t want to miss this!\n\n\n\n“Not Ashamed” Praise Rally\nBAD AXE\, MICHIGAN\nSaturday\, October 29th – 6:00PM\n\n\n\nWe’ll see you there!!
URL:https://kingdomfire.us/event/not-ashamed-praise-rally/
LOCATION:Faith Gospel Tabernacle\, 3108 Rescue Rd.\, Bad Axe\, MI\, 48413\, United States
CATEGORIES:Praise Rally
END:VEVENT
END:VCALENDAR