BEGIN:VCALENDAR
VERSION:2.0
PRODID:-//Kingdom Fire - ECPv6.15.20//NONSGML v1.0//EN
CALSCALE:GREGORIAN
METHOD:PUBLISH
X-ORIGINAL-URL:https://kingdomfire.us
X-WR-CALDESC:Events for Kingdom Fire
REFRESH-INTERVAL;VALUE=DURATION:PT1H
X-Robots-Tag:noindex
X-PUBLISHED-TTL:PT1H
BEGIN:VTIMEZONE
TZID:UTC
BEGIN:STANDARD
TZOFFSETFROM:+0000
TZOFFSETTO:+0000
TZNAME:UTC
DTSTART:20240101T000000
END:STANDARD
END:VTIMEZONE
BEGIN:VEVENT
DTSTART;TZID=UTC:20251105T190000
DTEND;TZID=UTC:20251108T210000
DTSTAMP:20260425T114959
CREATED:20251013T172345Z
LAST-MODIFIED:20251013T172345Z
UID:10001014-1762369200-1762635600@kingdomfire.us
SUMMARY:"City Quake"  |  Powerful Evangelism Equipping  | Buckley\, WA
DESCRIPTION:POWER EVANGELISM EQUIPPING \n\n\nSo honored and blessed to be invited as a Special Guest Speaker with our friends at City Quake – WASHINGTON! \n\n\n(( FIRST TIME ON THE WEST COAST!  ))\n\n\n November 5th–8th\n Buckley\, Washington\n\n\n City Quake is a three-and-a-half-day event (similar to Power & Love) designed to activate and equip believers to live boldly like Jesus — healing the sick\, hearing God’s voice\, and sharing the Gospel everywhere you go!\n\n\n As followers of Christ\, we’re not called to just attend church… we are the church — sent to model Jesus and make Him known!\n\n\n Joining Tom Ruotolo\, Scott Gilbert\, and other powerful guest speakers!\n\n\nIf you’ve ever wanted to grow in:\n Words of Knowledge\n Healing\n Prophecy\n Evangelism\n— then this event is for YOU!\n\n\nCome ready to be activated\, empowered\, and sent out in the power of the Holy Spirit!\n\n\n\n\n\nCity Quake Schedule\n\n\n\n\nWednesday\, November 5\n7:00 pm – Session (Doors open at 6:15 pm) \nThursday\, Friday\, Saturday\,  November 6-8\n9:00 am – Session (Doors open at 8:30 am)\n11:30 am – Love in Action\n2:00 pm – Session (Doors open at 1:45pm)\n4:30pm – Love in Action\n7:00 pm – Session (Doors open at 6:30) \n\n\n\nGo to https://cityquake.org/conferences/washington/ for tickets.
URL:https://kingdomfire.us/event/city-quake-powerful-evangelism-equipping-buckley-wa/
LOCATION:Eastpointe Church\, 10615 214th Ave E\, Buckley\, WA\, 98321\, United States
CATEGORIES:Evangelism Equipping,Guest Speaker at Conference
ATTACH;FMTTYPE=image/jpeg:https://kingdomfire.us/wp-content/uploads/2025/10/66d32de6-7b80-4282-b892-1042839abe55.jpg
END:VEVENT
END:VCALENDAR