BEGIN:VCALENDAR
VERSION:2.0
PRODID:-//Kingdom Fire - ECPv6.15.20//NONSGML v1.0//EN
CALSCALE:GREGORIAN
METHOD:PUBLISH
X-ORIGINAL-URL:https://kingdomfire.us
X-WR-CALDESC:Events for Kingdom Fire
REFRESH-INTERVAL;VALUE=DURATION:PT1H
X-Robots-Tag:noindex
X-PUBLISHED-TTL:PT1H
BEGIN:VTIMEZONE
TZID:UTC
BEGIN:STANDARD
TZOFFSETFROM:+0000
TZOFFSETTO:+0000
TZNAME:UTC
DTSTART:20250101T000000
END:STANDARD
END:VTIMEZONE
BEGIN:VEVENT
DTSTART;TZID=UTC:20260822T100000
DTEND;TZID=UTC:20260822T160000
DTSTAMP:20260425T152234
CREATED:20260401T190342Z
LAST-MODIFIED:20260401T190342Z
UID:10001072-1787392800-1787414400@kingdomfire.us
SUMMARY:Sault Ste. Marie\, Michigan |  Kingdom Fire Evangelism Equipping & Outreach |  Soo Christian Fellowship Church
DESCRIPTION:Kingdom Fire Evangelism Equipping + Outreach \nJoin us for a powerful day of Evangelism Equipping\, Activation\, and Outreach designed to stir your faith and activate you to live the Gospel boldly in your everyday life. \nThis is not just teaching—it’s hands-on. \n👉 We’ll begin with a practical equipping session focused on: \n\nSharing your faith with confidence\nHearing God’s voice in everyday moments\nStepping out in power through prayer\, healing\, and Spirit-led evangelism\n\n👉 Then we’ll put it into action:\nWe’ll head out together into the community for real-life outreach—bringing the love\, power\, and truth of Jesus to the streets. \n🔥 Whether you’re brand new or experienced\, this is for YOU. \nCome be encouraged\, equipped\, and activated. \n📍 Soo Christian Fellowship Church – 2920 Ashmun St.  Sault Ste. Marie\, MI 49783 \n📅 Saturday\, August 22\, 2026⏰ Starts at 10:00 AM
URL:https://kingdomfire.us/event/sault-ste-marie-michigan-kingdom-fire-evangelism-equipping-outreach-soo-christian-fellowship-church/
LOCATION:Soo Christian Fellowship Church\, 2920 Ashmun St\, Sault Ste. Marie\, MI\, 49783\, United States
CATEGORIES:Evangelism Equipping,Evangelism Outreach
ATTACH;FMTTYPE=image/jpeg:https://kingdomfire.us/wp-content/uploads/2026/04/street-evangelism-3.jpg
END:VEVENT
BEGIN:VEVENT
DTSTART;TZID=UTC:20260829T120000
DTEND;TZID=UTC:20260829T190000
DTSTAMP:20260425T152234
CREATED:20260325T035206Z
LAST-MODIFIED:20260325T035206Z
UID:10001065-1788004800-1788030000@kingdomfire.us
SUMMARY:Special Speaker |  "Jesus Fest" Multi-Church Evangelism Outreach  |  Escanaba\, Michigan
DESCRIPTION:Jesus Festival (often called “Jesus Fest”) is a regional\, multi-church outreach event held annually in Escanaba\, typically at Ludington Park in the Upper Peninsula. \n🙌 The Heart Behind It\nAt its core\, Jesus Fest is about: \n\nUnity across churches and denominations\nReaching the community with the Gospel\nCreating a space for people to encounter Jesus\nBringing hope\, healing\, and freedom\n\n  \n🔥 What Happens at Jesus Fest\nIt’s not just a service — it’s more like a community revival + outreach festival: \n🎤 Worship & Ministry\n\nLive worship from local and regional artists\nGospel preaching and testimonies\nAltar ministry\, prayer\, and salvations\n\n🍔 Community Atmosphere\n\nFree food for everyone\nFamily-friendly environment\nKids activities (bounce houses\, games\, etc.)\nGiveaways and contests\n\nEverything is intentionally free to remove barriers and invite the whole community in. \n\n📊 Impact & Reach\n\nDraws 3\,000–3\,500+ people annually\nInvolves multiple churches across the Upper Peninsula\nHundreds of volunteers serving\nDocumented outcomes like:\n\nSalvations\nBaptisms\nTestimonies of healing and freedom\n\n\n\nIt’s not just attendance — it’s real fruit. \n  \n 
URL:https://kingdomfire.us/event/special-speaker-jesus-fest-multi-church-evangelism-outreach-escanaba-michigan/
LOCATION:Ludington Park\, Lake Shore Dr\, Escanaba\, MI\, 49829\, United States
CATEGORIES:Evangelism Outreach
ATTACH;FMTTYPE=image/jpeg:https://kingdomfire.us/wp-content/uploads/2026/03/351133079_936156824261235_7559567081065480888_n.jpg
END:VEVENT
END:VCALENDAR