BEGIN:VCALENDAR
VERSION:2.0
PRODID:-//Kingdom Fire - ECPv6.15.20//NONSGML v1.0//EN
CALSCALE:GREGORIAN
METHOD:PUBLISH
X-WR-CALNAME:Kingdom Fire
X-ORIGINAL-URL:https://kingdomfire.us
X-WR-CALDESC:Events for Kingdom Fire
REFRESH-INTERVAL;VALUE=DURATION:PT1H
X-Robots-Tag:noindex
X-PUBLISHED-TTL:PT1H
BEGIN:VTIMEZONE
TZID:UTC
BEGIN:STANDARD
TZOFFSETFROM:+0000
TZOFFSETTO:+0000
TZNAME:UTC
DTSTART:20220101T000000
END:STANDARD
END:VTIMEZONE
BEGIN:VEVENT
DTSTART;TZID=UTC:20230625T120000
DTEND;TZID=UTC:20230627T170000
DTSTAMP:20260424T051133
CREATED:20230426T030821Z
LAST-MODIFIED:20230601T215522Z
UID:10000175-1687694400-1687885200@kingdomfire.us
SUMMARY:2nd Annual Community Revival For Christ | Deckerville\, MI
DESCRIPTION:Come on out and join us in the THUMB of Michigan! \nEvangelists Justin Fahrenbruch and Father Adam Maher will be partnering together again for a 3-day Event!  Starting on Sunday June 25th. \nLive Music\, Baptisms\, Bounce Houses\, Dunk Tanks\, Sports. Activities\, Swing Dancing\, Tug of War and Other Fun Activities! \nDuring the 3 day event we will be sharing our personal testimonies\, teaching on identity in Christ\, speaking on purpose and potential and helping identify individual callings and destinies! \nIt’s going to be an amazing time! \nMark your Calendars!!
URL:https://kingdomfire.us/event/2nd-annual-youth-revival-deckerville-mi/
LOCATION:Wilson Park\, 2590 Park St.\, Deckerville\, MI\, 48427\, United States
CATEGORIES:Church Event
ATTACH;FMTTYPE=image/jpeg:https://kingdomfire.us/wp-content/uploads/2023/04/348363492_200002986256810_3678923010623353965_n.jpg
END:VEVENT
BEGIN:VEVENT
DTSTART;TZID=UTC:20230527T180000
DTEND;TZID=UTC:20230527T210000
DTSTAMP:20260424T051133
CREATED:20230428T023322Z
LAST-MODIFIED:20230428T023707Z
UID:10000181-1685210400-1685221200@kingdomfire.us
SUMMARY:Freedom Nights | Healing and Deliverance | Revival Services
DESCRIPTION:“Freedom Nights” at Flint Driven Church in Flint\, Michigan!\n\nEvangelist Justin Fahrenbruch will be FIRED UP and bringing the word about healing\, deliverance\, & spiritual warfare! Afterwards there will be a time of personal ministry for everyone and anyone in need. A night of FREEDOM!!\n\nFREE and open to the Public!\n\nAdvancing the Kingdom\nIgniting a Fire\n\nLet’s Go! 
URL:https://kingdomfire.us/event/freedom-nights-healing-and-deliverance-revival-services/
LOCATION:Flint Driven Church\, 2901 Brown St.\, Flint\, MI\, 48503\, United States
CATEGORIES:Church Event
ATTACH;FMTTYPE=image/jpeg:https://kingdomfire.us/wp-content/uploads/2023/04/Freedom-Nights-scaled.jpg
ORGANIZER;CN="Kingdom Fire Ministries":MAILTO:Admin@Kingdomfire.us
END:VEVENT
BEGIN:VEVENT
DTSTART;TZID=UTC:20230416T150000
DTEND;TZID=UTC:20230416T170000
DTSTAMP:20260424T051133
CREATED:20230411T175031Z
LAST-MODIFIED:20230411T175031Z
UID:10000166-1681657200-1681664400@kingdomfire.us
SUMMARY:Girls of Grace Worship/Dance Program | The Fahrenbruch Family Sharing Cardboard Testimony
DESCRIPTION:Justin\, Paityn and Paisley Fahrenbruch will be sharing their “Cardboard Testimony” in a small portion of the “Girls of Grace” Worship/Dance program on Saturday (4/15) 1:00PM and 5:00PM\nand Sunday (4/16) 3:00PM\n\nON SALE NOW!!!\n\n\n\nTickets for our annual worship concert “Faithful in All Seasons” go on sale TODAY! This is a worship experience you won’t want to miss. Tickets will go quickly\, so be sure to get yours today.\n\n\nTickets are available by either of the following ways:\n\nVisit: https://stlorenz.churchcenter.com/registrations/events\nCall: 1-989-652-6141
URL:https://kingdomfire.us/event/girls-of-grace-worship-dance-program-the-fahrenbruch-family-sharing-cardboard-testimony-2/
LOCATION:St. Lorenz Worship and Events Center\, 850 W. Genessee\, Frankenmuth\, MI\, 48734\, United States
CATEGORIES:Church Event
ATTACH;FMTTYPE=image/jpeg:https://kingdomfire.us/wp-content/uploads/2023/04/Girls-of-Grace.jpg
ORGANIZER;CN="Linda Nuechterlein":MAILTO:linda.nuechterlein@gmail.com
END:VEVENT
BEGIN:VEVENT
DTSTART;TZID=UTC:20230407T170000
DTEND;TZID=UTC:20230407T190000
DTSTAMP:20260424T051133
CREATED:20230329T174259Z
LAST-MODIFIED:20230329T174259Z
UID:10000109-1680886800-1680894000@kingdomfire.us
SUMMARY:Good Friday Church Service at BLIGHT Restoration Center
DESCRIPTION:Our home church – Flint Driven Church – is hosting an evangelistic style “Good Friday” service this weekend! \nB LIGHT RESTORATION CENTER is home to many of those struggling with addiction\, homelessness and those that are in a tough spot throughout the city of Flint.  They open their doors throughout the year to help those in need.  We often serve in the winter to those in need and always incorporate the love of Jesus Christ and share the Gospel with everyone we come into contact with. \nThey’ve invited us (Flint Driven Church) for a Special Service for GOOD FRIDAY. \nWe will be serving those in need dinner and having a church service directly afterward! \nCome on out and join us!
URL:https://kingdomfire.us/event/good-friday-church-service-at-blight-restoration-center/
LOCATION:B Light Restoration Cener\, 805 Martin Luther King Ave.\, Flint\, MI\, 48503\, United States
CATEGORIES:Church Event
ATTACH;FMTTYPE=image/jpeg:https://kingdomfire.us/wp-content/uploads/2023/03/Good-Friday-Flyer.jpg
END:VEVENT
BEGIN:VEVENT
DTSTART;TZID=UTC:20230326T110000
DTEND;TZID=UTC:20230326T130000
DTSTAMP:20260424T051133
CREATED:20230313T201308Z
LAST-MODIFIED:20230313T201308Z
UID:10000103-1679828400-1679835600@kingdomfire.us
SUMMARY:Preaching at The Way Pentecostal Church  (Bi-Lingual Service)
DESCRIPTION:We’ve been invited back to share our hearts with our Kingdom Family in Grand Rapids!  The church origin is from Congo\, Africa.   Their native language is Swahili!    The message will be translated from English to Swahili.\n\nIf you’re looking for a change of scenery\, come and hear Holy Spirit as we worship in their native tongue:\n\n“Africa is notoriously faith-filled\, and of course\, Swahili worship songs dominate East Africa. Worship songs have developed over the years\, and today\, they are stylistically similar to other genres.  However\, the faith-filled message are presented in such songs.  Worship songs are typical in churches\, mainly non-denominational ones\, scattered all over the country. Some love to listen to worship songs at home because of their inspirational appeal.”\n\nIt’s going to be an amazing time together in the Lord.\n\n\n**Justin was a drug addict for 14 years of his life. In 2018 he was radically and miraculously set free when a chain of events lead to an encounter with Jesus Christ in the middle of a parking lot. Since the surrender of his life\, Justin has seen the miraculous power of The Holy Spirit move mightily through his life and many others around him.**\n\n\n\nHealing and Deliverance \nProphetic Words\nPreaching the Kingdom \nFresh Revival Fire\n\n\n\n\n\nIt’s time to change the world!\nLet’s Go!!
URL:https://kingdomfire.us/event/preaching-at-the-way-pentecostal-church-bi-lingual-service/
LOCATION:David D. Hunting YMCA\, 475 Lake Michigan Dr. NW\, Grand Rapids\, MI\, 49504\, United States
CATEGORIES:Church Event
ATTACH;FMTTYPE=image/jpeg:https://kingdomfire.us/wp-content/uploads/2023/03/Copy-of-Live-Music-Poster-3-scaled.jpg
END:VEVENT
BEGIN:VEVENT
DTSTART;TZID=UTC:20230224T180000
DTEND;TZID=UTC:20230224T200000
DTSTAMP:20260424T051133
CREATED:20230214T214846Z
LAST-MODIFIED:20230214T214846Z
UID:10000098-1677261600-1677268800@kingdomfire.us
SUMMARY:Driven Youth Game Night!
DESCRIPTION:  Attention all teens  \n\nIn just a couple weeks we are having a Game Night for you & your friends!!!\n\nCome join us on February 24th from 6-9pm for some fun games & other competitive games while eating some food and meeting new faces!!\n\n$5 per teen covers the cost of food and any game materials we may need.
URL:https://kingdomfire.us/event/driven-youth-game-night/
LOCATION:Flint Driven Church\, 2901 Brown St.\, Flint\, MI\, 48503\, United States
CATEGORIES:Church Event
ATTACH;FMTTYPE=image/jpeg:https://kingdomfire.us/wp-content/uploads/2023/02/327725124_497804055868659_1062422833012364566_n.jpg
END:VEVENT
BEGIN:VEVENT
DTSTART;TZID=UTC:20230127T180000
DTEND;TZID=UTC:20230127T210000
DTSTAMP:20260424T051133
CREATED:20230119T195842Z
LAST-MODIFIED:20230119T195842Z
UID:10000156-1674842400-1674853200@kingdomfire.us
SUMMARY:Flint Driven Church - Youth Game Night
DESCRIPTION:  Attention all teens  \n\nIn just a couple weeks we are having a Game Night for you & your friends!!!\n\nCome join us on January 27th from 6-9pm for some fun games & other competitive games while eating some food and meeting new faces!!\n\n$5 per teen covers the cost of food and any game materials we may need.
URL:https://kingdomfire.us/event/flint-driven-church-youth-game-night/
LOCATION:Flint Driven Church\, 2901 Brown St.\, Flint\, MI\, 48503\, United States
CATEGORIES:Church Event
ATTACH;FMTTYPE=image/jpeg:https://kingdomfire.us/wp-content/uploads/2023/01/Game-Night-Flyer.jpg
END:VEVENT
END:VCALENDAR