BEGIN:VCALENDAR
VERSION:2.0
PRODID:-//Kingdom Fire - ECPv6.15.20//NONSGML v1.0//EN
CALSCALE:GREGORIAN
METHOD:PUBLISH
X-WR-CALNAME:Kingdom Fire
X-ORIGINAL-URL:https://kingdomfire.us
X-WR-CALDESC:Events for Kingdom Fire
REFRESH-INTERVAL;VALUE=DURATION:PT1H
X-Robots-Tag:noindex
X-PUBLISHED-TTL:PT1H
BEGIN:VTIMEZONE
TZID:UTC
BEGIN:STANDARD
TZOFFSETFROM:+0000
TZOFFSETTO:+0000
TZNAME:UTC
DTSTART:20250101T000000
END:STANDARD
END:VTIMEZONE
BEGIN:VEVENT
DTSTART;TZID=UTC:20260531T090000
DTEND;TZID=UTC:20260531T130000
DTSTAMP:20260423T172203
CREATED:20260325T165916Z
LAST-MODIFIED:20260325T165916Z
UID:10001070-1780218000-1780232400@kingdomfire.us
SUMMARY:Guest Speaker for Church Service  |  Bay Valley Christian Church |  Bay City\, MI
DESCRIPTION:🔥🔥 BAY CITY\, MICHIGAN 🔥🔥 \nIf you’re in Bay City  and don’t have a home church—or it’s been a while since you’ve been in church—we would love to invite you to join us at Bay Valley Christian Church – Sunday\, May 31st! \n⏰ Service Times:9:00 AM & 11:00 AM \n🎤 Guest Speaker:Evangelist Justin Fahrenbruch \nAfter 14 years bound by addiction\, Justin experienced a radical and miraculous encounter with Jesus in 2018 that completely changed the trajectory of his life. In the middle of an ordinary day—and an unexpected parking lot—he surrendered his life to Christ and was instantly set free. Since that moment\, Justin has seen the dynamic power of God move not only in his own life\, but through him as he shares the hope\, freedom\, and transformation found in Jesus. \nJustin will be sharing his heart during both Sunday services\, and we believe this will be a powerful morning of encouragement\, hope\, and encounter. \n✨ Come as you are. Bring a friend. We’d love to see you there.
URL:https://kingdomfire.us/event/guest-speaker-for-church-service-bay-valley-christian-church-bay-city-mi-2/
LOCATION:Bay Valley Christian Church\, 2535 Wilder Rd.\, Bay City\, Michigan\, 48706
CATEGORIES:Guest Speaker for Church Service
ATTACH;FMTTYPE=image/png:https://kingdomfire.us/wp-content/uploads/2026/03/Bay-City-Evangelism-Weekend.png
END:VEVENT
END:VCALENDAR