BEGIN:VCALENDAR
VERSION:2.0
PRODID:-//Kingdom Fire - ECPv6.15.20//NONSGML v1.0//EN
CALSCALE:GREGORIAN
METHOD:PUBLISH
X-WR-CALNAME:Kingdom Fire
X-ORIGINAL-URL:https://kingdomfire.us
X-WR-CALDESC:Events for Kingdom Fire
REFRESH-INTERVAL;VALUE=DURATION:PT1H
X-Robots-Tag:noindex
X-PUBLISHED-TTL:PT1H
BEGIN:VTIMEZONE
TZID:UTC
BEGIN:STANDARD
TZOFFSETFROM:+0000
TZOFFSETTO:+0000
TZNAME:UTC
DTSTART:20250101T000000
END:STANDARD
END:VTIMEZONE
BEGIN:VEVENT
DTSTART;TZID=UTC:20260530T100000
DTEND;TZID=UTC:20260530T210000
DTSTAMP:20260423T185413
CREATED:20260325T165329Z
LAST-MODIFIED:20260325T165329Z
UID:10001069-1780135200-1780174800@kingdomfire.us
SUMMARY:Saturday Equipping and Outreach  |  Evangelism Equipping Weekend | BVCC - Bay City\, Michigan
DESCRIPTION:  LET’S GO — BAY CITY\, MICHIGAN! \n\n\n\nI’m honored to be with Bay Valley Christian Church for a powerful 3-Day Revival Weekend — and you’re invited!\n\n\n\n Location:\nBay Valley Christian Church\n2535 Wilder Rd.\nBay City\, Michigan 48707\n\n\n\n May 29th – May 31st\n\n\n Weekend Schedule:\n\nFriday | 6:00 PM\n Impartation Service — Worship\, Word\, Kingdom Encounter\n\n\n\n\n\n\n\n\n\nSaturday | 10:00AM\n Evangelism Equipping\, Holy Spirit Activations & Outreach\n(Be equipped\, activated\, and sent!)\n\n\n\n\nSaturday | NOON\n🖐️ Hands on – Outreach into the community\n\n\n\n\n\n\nSaturday | 6:00PM\n Evangelism Equipping\, Holy Spirit Activations & Outreach\n\n\n\nSATURDAY SCHEDULE | EVANGELISM EQUIPPING & REVIVAL \n🔥 EVANGELISM EQUIPPING WEEKEND 🔥\nSaturday is where commissioning turns into action. \nAfter Friday night’s impartation\, we’re gathering for a full day of hands-on Evangelism Equipping—designed to train and activate believers to confidently share Jesus in everyday life. \nThis isn’t just teaching…This is activation. \n\n⚡ SATURDAY MORNING | 10:00 AM\nEVANGELISM EQUIPPING + ACTIVATION \nWe’ll dive into practical\, Spirit-led training on: \n▪️ Practical Evangelism – how to live a lifestyle of sharing Jesus▪️ How to share your personal testimony with confidence▪️ How to clearly and effectively share the Gospel▪️ Stepping out in boldness and faith \n🔥 Activation included — you won’t just hear it… you’ll do it. \n➡️ Then we GO.We’ll head into the community together to put it into practice—sharing the love of Jesus side by side in real time. \n\n🌆 SATURDAY EVENING\nEVANGELISM + PROPHETIC ACTIVATION SESSION \nWe’ll regather for a powerful equipping session focused on: \n▪️ Hearing the voice of God▪️ Words of Knowledge▪️ Prophetic Evangelism▪️ Being led by the Holy Spirit in real-time encounters \n🔥 With hands-on activation to step into it immediately. \n\n🔥 WHAT TO EXPECT:\n▪️ Practical training you can actually apply▪️ A safe environment to step out and grow▪️ Real outreach experience in the community▪️ Impartation\, activation\, and boldness \n\n👉 Come ready to be equipped.👉 Come ready to be stretched.👉 Come ready to GO. \n\n\n\n\n\nSunday Morning | 9:00AM + 11:00AM\n Sunday Church Service — Justin will be sharing during both church services\n\n\n\nThis weekend is all about encountering Jesus\, being empowered by the Holy Spirit\, and living out the Gospel boldly. Whether you’re hungry for revival\, want to grow in evangelism\, or just need a fresh touch from God — this weekend is for you.\n\n\n\n Bring a friend. Come expectant. Let’s see heaven invade earth.\n\n\n Bay City — God is moving!
URL:https://kingdomfire.us/event/saturday-equipping-and-outreach-evangelism-equipping-weekend-bvcc-bay-city-michigan/
LOCATION:Bay Valley Christian Church\, 2535 Wilder Rd.\, Bay City\, Michigan\, 48706
CATEGORIES:Evangelism Equipping,Evangelism Outreach
ATTACH;FMTTYPE=image/png:https://kingdomfire.us/wp-content/uploads/2026/03/Bay-City-Evangelism-Weekend.png
END:VEVENT
END:VCALENDAR