BEGIN:VCALENDAR
VERSION:2.0
PRODID:-//Kingdom Fire - ECPv6.15.20//NONSGML v1.0//EN
CALSCALE:GREGORIAN
METHOD:PUBLISH
X-WR-CALNAME:Kingdom Fire
X-ORIGINAL-URL:https://kingdomfire.us
X-WR-CALDESC:Events for Kingdom Fire
REFRESH-INTERVAL;VALUE=DURATION:PT1H
X-Robots-Tag:noindex
X-PUBLISHED-TTL:PT1H
BEGIN:VTIMEZONE
TZID:UTC
BEGIN:STANDARD
TZOFFSETFROM:+0000
TZOFFSETTO:+0000
TZNAME:UTC
DTSTART:20250101T000000
END:STANDARD
END:VTIMEZONE
BEGIN:VEVENT
DTSTART;TZID=UTC:20260529T180000
DTEND;TZID=UTC:20260529T210000
DTSTAMP:20260423T173042
CREATED:20260325T164101Z
LAST-MODIFIED:20260325T164101Z
UID:10001068-1780077600-1780088400@kingdomfire.us
SUMMARY:Friday Evening Impartation Service  |  Evangelism Equipping Weekend | BVCC - Bay City\, Michigan
DESCRIPTION:  LET’S GO — BAY CITY\, MICHIGAN! \n\n\n\nI’m honored to be with Bay Valley Christian Church for a powerful 3-Day Revival Weekend — and you’re invited!\n\n\n\n Location:\nBay Valley Christian Church\n2535 Wilder Rd.\nBay City\, Michigan 48707\n\n\n\n May 29th – May 31st\n\n\n Weekend Schedule:\n\nFriday | 6:00 PM\n Impartation Service — Worship\, Word\, Kingdom Encounter\n\n\nFRIDAY NIGHT – IMPARTATION SERVICE 🔥 \nThis Friday evening we’re gathering hungry hearts\, burning ones\, and rising evangelists for a powerful Impartation Service. \nThis is more than a service—it’s a moment of activation\, commissioning\, and fresh fire. \nIf you’re called to:\n• Preach the Gospel• Lay hands on the sick• Carry revival into the streets• Walk in boldness\, identity\, and power \nThis night is for YOU. \nCome expect:\n🔥 Fresh fire from the Holy Spirit🔥 Impartation & activation🔥 Prophetic prayer & commissioning🔥 A stirring to GO and preach Jesus \nBring your hunger. Leave empowered. \n\n\n\n\n\nSaturday | 10:00AM\n Evangelism Equipping\, Holy Spirit Activations & Outreach\n(Be equipped\, activated\, and sent!)\n\n\nSaturday | NOON\n🖐️ Hands on – Outreach into the community\n\n\n\n\nSaturday | 6:00PM\n Evangelism Equipping\, Holy Spirit Activations\n\n\n\nSunday Morning | 9:00AM + 11:00AM\n Sunday Church Service — Justin will be sharing during both church services\n\n\n\nThis weekend is all about encountering Jesus\, being empowered by the Holy Spirit\, and living out the Gospel boldly. Whether you’re hungry for revival\, want to grow in evangelism\, or just need a fresh touch from God — this weekend is for you.\n\n\n\n Bring a friend. Come expectant. Let’s see heaven invade earth.\n\n\n Bay City — God is moving!
URL:https://kingdomfire.us/event/friday-evening-impartation-service-evangelism-equipping-weekend-bvcc-bay-city-michigan/
LOCATION:Bay Valley Christian Church\, 2535 Wilder Rd.\, Bay City\, Michigan\, 48706
CATEGORIES:Evangelism Equipping,Evangelism Outreach
ATTACH;FMTTYPE=image/png:https://kingdomfire.us/wp-content/uploads/2026/03/Bay-City-Evangelism-Weekend.png
END:VEVENT
END:VCALENDAR