BEGIN:VCALENDAR
VERSION:2.0
PRODID:-//Kingdom Fire - ECPv6.15.20//NONSGML v1.0//EN
CALSCALE:GREGORIAN
METHOD:PUBLISH
X-WR-CALNAME:Kingdom Fire
X-ORIGINAL-URL:https://kingdomfire.us
X-WR-CALDESC:Events for Kingdom Fire
REFRESH-INTERVAL;VALUE=DURATION:PT1H
X-Robots-Tag:noindex
X-PUBLISHED-TTL:PT1H
BEGIN:VTIMEZONE
TZID:UTC
BEGIN:STANDARD
TZOFFSETFROM:+0000
TZOFFSETTO:+0000
TZNAME:UTC
DTSTART:20250101T000000
END:STANDARD
END:VTIMEZONE
BEGIN:VEVENT
DTSTART;TZID=UTC:20260404T113000
DTEND;TZID=UTC:20260404T160000
DTSTAMP:20260423T155833
CREATED:20260325T032443Z
LAST-MODIFIED:20260325T032443Z
UID:10001064-1775302200-1775318400@kingdomfire.us
SUMMARY:Pull Over 4 Prayer Street Evangelism  |  Burton\, Michigan
DESCRIPTION:🔥 PULL OVER FOR PRAYER – OUTREACH IN THE STREETS 🔥 \nWe’re taking the love of Jesus to the streets — and you’re invited to be part of it! \nAs we look forward to Resurrection Sunday\, our heart is simple:✝️ Lift up the name of Jesus✝️ Love people right where they are✝️ Create opportunities for encounters with God \nWe’ll be out on the street corner holding signs\, worshiping\, and inviting people to pull over for prayer.  You’d be amazed how many people we’ve encountered over the years that’s just waiting for someone to show them that God sees them! \nAn opportunity to be the light in our own backyard. \n\n📍 MEET FIRST (Prayer + Prep):CenterPoint Church1225 S. Center Rd. Burton\, MI🕚 11:30AM (Sign prep + prayer) \n📍 OUTREACH LOCATION:Courtland Center Mall4190 E Court St. Burton\, MI(Across from Applebee’s & Home Depot Plaza) \n🕐 Outreach Time: 1:00PM – 4:00PM \n\n🔥 What to expect:▪️ Worship on the street corner▪️ Prayer for our city▪️ Real conversations with real people – Praying for those in need▪️ Opportunities to step out in faith▪️ Seeing God move outside the four walls \n\nWhether you’ve done evangelism for years or this is your first time… \nCome on out be part of what God is doing. \nLet’s flood Genesee County with the love of Jesus and point hearts toward Him this Easter weekend 🙌 \n👉 Comment “I’m in” if you’re coming!👉 Tag someone who should join you \n\nSee you there! 🔥 \n\n#PullOverForPrayer #StreetEvangelism #KingdomFire #BurtonMI #ResurrectionWeekend #LightItUp #Matthew514 🔥
URL:https://kingdomfire.us/event/pull-over-4-prayer-street-evangelism-burton-michigan/
LOCATION:Courtland Mall Parking Lot\, 4190 E Court St.\, Burton\, MI\, 48509\, United States
CATEGORIES:Evangelism Outreach
ATTACH;FMTTYPE=image/png:https://kingdomfire.us/wp-content/uploads/2026/03/Pull-Over-Prayer-Evangelism.png
ORGANIZER;CN="Justin Fahrenbruch":MAILTO:Admin@Kingdomfire.us
END:VEVENT
END:VCALENDAR