BEGIN:VCALENDAR
VERSION:2.0
PRODID:-//Kingdom Fire - ECPv6.15.20//NONSGML v1.0//EN
CALSCALE:GREGORIAN
METHOD:PUBLISH
X-ORIGINAL-URL:https://kingdomfire.us
X-WR-CALDESC:Events for Kingdom Fire
REFRESH-INTERVAL;VALUE=DURATION:PT1H
X-Robots-Tag:noindex
X-PUBLISHED-TTL:PT1H
BEGIN:VTIMEZONE
TZID:UTC
BEGIN:STANDARD
TZOFFSETFROM:+0000
TZOFFSETTO:+0000
TZNAME:UTC
DTSTART:20250101T000000
END:STANDARD
END:VTIMEZONE
BEGIN:VEVENT
DTSTART;TZID=UTC:20260226T083000
DTEND;TZID=UTC:20260226T093000
DTSTAMP:20260423T185441
CREATED:20260207T004822Z
LAST-MODIFIED:20260207T004822Z
UID:10001057-1772094600-1772098200@kingdomfire.us
SUMMARY:Worship\, Word and Prayer at the Michigan State Capitol  |  Guest Speaker  |  Lansing\, Michigan
DESCRIPTION:Prayer\, Worship & Word at the Michigan State Capitol \nPresented by: \nThe Christian Prayer Caucus \n📅 Thursday\, February 26🕣 8:30 AM \n📍 Michigan State Capitol Building \n100 N. Capital Ave.  Lansing\, MI 48933 \nYou are invited to join us for a powerful morning gathering at the Michigan State Capitol\, focused on releasing God’s blessing\, wisdom\, and righteousness into the highest places of authority in our state. \nThis morning will include:\n• Worship• The Word• Corporate prayer \nGuest Speaker:Evangelist Justin Fahrenbruch \nWorship Led By:Cam & Morgan Powers \nW/ Special Guests:Joe FuseroJodi ReedMarty Bontrager \nWe are extending an open invitation to pastors\, ministry leaders\, and intercessors from the region to come stand together in unity—praying for our state\, our leaders\, and the direction of Michigan. \nThis is a moment to honor God publicly\, align heaven with earth\, and speak blessing over those entrusted with authority.
URL:https://kingdomfire.us/event/worship-word-and-prayer-at-the-michigan-state-capitol-guest-speaker-lansing-michigan/
LOCATION:Michigan State Capital Building\, 100 N. Capital Ave.\, Lansing\, Michigan\, 48933
CATEGORIES:Guest Speaker for Special Event
ATTACH;FMTTYPE=image/png:https://kingdomfire.us/wp-content/uploads/2026/02/Dark-Blue-USA-Flag-Happy-National-Freedom-Day-Poster-4.png
END:VEVENT
BEGIN:VEVENT
DTSTART;TZID=UTC:20260226T210000
DTEND;TZID=UTC:20260226T223000
DTSTAMP:20260423T185441
CREATED:20250216T220513Z
LAST-MODIFIED:20251111T194722Z
UID:10000751-1772139600-1772145000@kingdomfire.us
SUMMARY:Kingdom Fire Equipping and Discipleship  | |   FREE Bible Study & Community Group   ||  Online via ZOOM
DESCRIPTION:Kingdom Fire Equipping and Discipleship\n\n EVERY THURSDAY @ 9:00PM (ETZ) \n\nYour host\, Justin Fahrenbruch – Kingdom Fire Ministries – is inviting you to an On-Line\, Interactive\, LIVE (Non-Public)\, Discipleship/Bible Study Group.\n\nThis is not be your ordinary “Bible Study” group.  The instruction I have received of the LORD is to expand His Kingdom by raising up Warrior-Disciples.  In this Study Group you will be stretched\, built up and encouraged to go deeper in your walk with Christ.  Divine Connections will be bridged and building relationships that work together for Kingdom Advancement on earth as it is in Heaven.\n\nThere is 30-45 minutes of teaching on various topics by Justin Fahrenbrcuh\nAfter the teaching\, there is another 45 minutes of “Community Time”\n\n Question and Answer\n Sharing what’s on your heart\n Praying and Encouraging one another\n\n** All of the teaching sessions are being recorded and uploaded to our website **\n\n\nReplay Access to this Teaching Series and ALL other teaching series are available for FREE as a special gift to monthly partners with our ministry.\n www.kingdomfire.us/partners-classes \n\n\n*** YOU MUST REGISTER IN ORDER TO RECEIVE THE ACCESS LINK TO THE ZOOM STUDIES ***\n** THE SAME LINK IS USED EVERY WEEK\, SO SAVE THE LINK **\n\n REGISTER HERE: https://us02web.zoom.us/meeting/register/tZ0tce2hqjwsHNyJ3hGAIeeamVbyvbQW22QF \n\n\nSEE YOU THIS THURSDAY @ 9PM!
URL:https://kingdomfire.us/event/kingdom-foundations-identity-in-christ-online-bible-study-2-2/2026-02-26/
LOCATION:ZOOM VIRTUAL ONLINE CLASSROOM
CATEGORIES:Equipping Class,Kingdom Equipping
ATTACH;FMTTYPE=image/jpeg:https://kingdomfire.us/wp-content/uploads/2024/04/Online-bible-study-classes-flyer-scaled.jpg
ORGANIZER;CN="Justin Fahrenbruch":MAILTO:Admin@Kingdomfire.us
END:VEVENT
END:VCALENDAR