BEGIN:VCALENDAR
VERSION:2.0
PRODID:-//Kingdom Fire - ECPv6.15.20//NONSGML v1.0//EN
CALSCALE:GREGORIAN
METHOD:PUBLISH
X-WR-CALNAME:Kingdom Fire
X-ORIGINAL-URL:https://kingdomfire.us
X-WR-CALDESC:Events for Kingdom Fire
REFRESH-INTERVAL;VALUE=DURATION:PT1H
X-Robots-Tag:noindex
X-PUBLISHED-TTL:PT1H
BEGIN:VTIMEZONE
TZID:UTC
BEGIN:STANDARD
TZOFFSETFROM:+0000
TZOFFSETTO:+0000
TZNAME:UTC
DTSTART:20250101T000000
END:STANDARD
END:VTIMEZONE
BEGIN:VEVENT
DTSTART;TZID=UTC:20260127T080000
DTEND;TZID=UTC:20260127T170000
DTSTAMP:20260423T225100
CREATED:20260115T233317Z
LAST-MODIFIED:20260115T233317Z
UID:10001047-1769500800-1769533200@kingdomfire.us
SUMMARY:3rd Annual Thumb Pastors and Ministry Leaders Conference |  Guest Speaker - Justin Fahrenbruch  |  Snover\, Michigan
DESCRIPTION:Excited to be a Guest Speaker for this year’s 3rd Annual Thumb Pastors Meeting.\n\n\n\nThis year’s theme:\n“Connecting Ministry Streams”\n\n\n\nIf you are a Pastor or Leader — You’re invited!\n\n\nLast year we had 48 Leaders attend. This year we are limiting the seating to 60 people. This is a free event with a continental breakfast and lunch provided\, but you must register by text Pastor Michael Smith at 810-837-1512\n\n(See flyer for additional details)
URL:https://kingdomfire.us/event/3rd-annual-thumb-pastors-and-ministry-leaders-conference-guest-speaker-justin-fahrenbruch-snover-michigan/
LOCATION:Lifesong Church\, 5208 Sanilac Rd.\, Snover\, MI\, 48472\, United States
CATEGORIES:Guest Speaker for Special Event
ATTACH;FMTTYPE=image/png:https://kingdomfire.us/wp-content/uploads/2026/01/BWA-2026-Conference-Flier-1.png
END:VEVENT
END:VCALENDAR