BEGIN:VCALENDAR
VERSION:2.0
PRODID:-//Kingdom Fire - ECPv6.15.20//NONSGML v1.0//EN
CALSCALE:GREGORIAN
METHOD:PUBLISH
X-WR-CALNAME:Kingdom Fire
X-ORIGINAL-URL:https://kingdomfire.us
X-WR-CALDESC:Events for Kingdom Fire
REFRESH-INTERVAL;VALUE=DURATION:PT1H
X-Robots-Tag:noindex
X-PUBLISHED-TTL:PT1H
BEGIN:VTIMEZONE
TZID:UTC
BEGIN:STANDARD
TZOFFSETFROM:+0000
TZOFFSETTO:+0000
TZNAME:UTC
DTSTART:20240101T000000
END:STANDARD
END:VTIMEZONE
BEGIN:VEVENT
DTSTART;TZID=UTC:20250928T110000
DTEND;TZID=UTC:20250928T130000
DTSTAMP:20260424T142234
CREATED:20250923T200339Z
LAST-MODIFIED:20250923T200339Z
UID:10001008-1759057200-1759064400@kingdomfire.us
SUMMARY:Guest Speaker for Church Service - Justin Fahrenbruch  |  Connect Community Church  |  Oil City\, Michigan
DESCRIPTION:ISABELLA COUNTY — OIL CITY\, MICHIGAN \nIf you are from Central Michigan and do not have a Home Church or haven’t been to church in a while… we would LOVE to see you at Connect Community Church – Sunday\, September 28th!!\nWorship Service Starting at 11:00AM \nLocation:\nConnect Community Church\n5248 W. School Rd.\nShepherd\, Michigan 48883 \n**Justin was a drug addict for 14 years of his life. In 2018 he was radically and miraculously set free when a chain of events lead to an encounter with Jesus Christ in the middle of a parking lot. Since the surrender of his life\, Justin has seen the miraculous power of The Holy Spirit move mightily through his life and many others around him.** \nJustin will be sharing his testimony and heart at church.\nYou won’t want to miss this POWERFUL service! \nHallelujah – He’s Alive!!
URL:https://kingdomfire.us/event/guest-speaker-for-church-service-justin-fahrenbruch-connect-community-church-oil-city-michigan/
LOCATION:Connect Community Church\, 5348 W. School Rd.\, Shepherd\, MI\, 48883\, United States
CATEGORIES:Guest Speaker for Church Service
ATTACH;FMTTYPE=image/jpeg:https://kingdomfire.us/wp-content/uploads/2025/09/White-Maximalist-Sunday-Service-Instagram-Post.jpg
ORGANIZER;CN="Pastor Tony":MAILTO:Aboveallfree@gmail.com
END:VEVENT
END:VCALENDAR