BEGIN:VCALENDAR
VERSION:2.0
PRODID:-//Kingdom Fire - ECPv6.15.20//NONSGML v1.0//EN
CALSCALE:GREGORIAN
METHOD:PUBLISH
X-ORIGINAL-URL:https://kingdomfire.us
X-WR-CALDESC:Events for Kingdom Fire
REFRESH-INTERVAL;VALUE=DURATION:PT1H
X-Robots-Tag:noindex
X-PUBLISHED-TTL:PT1H
BEGIN:VTIMEZONE
TZID:UTC
BEGIN:STANDARD
TZOFFSETFROM:+0000
TZOFFSETTO:+0000
TZNAME:UTC
DTSTART:20240101T000000
END:STANDARD
END:VTIMEZONE
BEGIN:VEVENT
DTSTART;TZID=UTC:20250813T170000
DTEND;TZID=UTC:20250813T230000
DTSTAMP:20260424T094938
CREATED:20250604T015954Z
LAST-MODIFIED:20250604T015954Z
UID:10000999-1755104400-1755126000@kingdomfire.us
SUMMARY:KINGDOM ENCOUNTER TENT CRUSADE  |   PARADE & MASS WATER BAPTISMS  |  CASEVILLE\, MICHIGAN
DESCRIPTION:Wednesday\, August 13 — The Parade of Fools & Mass Beach Baptisms\n🔥 Get ready for a wild\, joyful\, and bold public declaration of faith! \nAs part of the Kingdom Encounter Tent Crusade during Cheeseburger Fest\, we’re going into the heart of the city with the heart of Jesus — and we’re doing it in the most unexpected way. \nJoin us in Caseville’s iconic “Parade of Fools” as we flip the script and turn foolishness into glory with this powerful truth: \n\n“God uses the foolish things of the world to shame the wise…”— 1 Corinthians 1:27 \n\n🎉 The Kingdom Float: Loud\, Joyful\, Unashamed\nWe’ll be rolling through the streets with a float like no other —🚚 A live DJ bringing the sound of celebration💦 Live baptisms on the float as people publicly declare their faith in Jesus👣 Local churches walking side-by-side\, representing unity in the Body of Christ🙌 Bold outreach and contagious joy spilling over into the streets \nCome walk with us or cheer from the sidelines — but don’t miss this radical\, love-filled invasion of the Gospel right into the heart of the festival! \n\n🌊 Mass Beach Baptisms at Lake Huron\nImmediately after the parade\, we’ll gather at the Lake Huron shoreline for a powerful time of water baptisms. \nWhether you’re getting baptized for the first time or rededicating your life — this is your moment. Bring a towel\, a change of clothes\, and your whole family. \nIt’s time to go all in. Let the old life go and rise new with Christ — right in the open\, surrounded by revival. \n\n✅ Be Part of the Movement:\n\n\nWant to walk with us in the parade? Churches and individuals are welcome! \n\n\nReady to get baptized? We’ll be baptizing during the parade and at the beach. \n\n\nJust want to watch and worship? Come and be inspired! \n\n\nThis isn’t just a parade — it’s a Kingdom procession. \n📅 Wednesday\, August 13🎭 “Parade of Fools” — Downtown Caseville🌊 Mass Baptisms — Lake Huron Beach (immediately following the parade)🔗 www.kingdom-encounter.com \nCome for the fun. Leave forever changed.Jesus is on the move in Michigan — and you’re invited.
URL:https://kingdomfire.us/event/kingdom-encounter-tent-crusade-parade-mass-water-baptisms-caseville-michigan/
LOCATION:Wooded Island Sports Grill\, 6868 Michigan Ave.\, Caseville\, MI\, 48725\, United States
CATEGORIES:Evangelism Outreach,Special Event
ATTACH;FMTTYPE=image/png:https://kingdomfire.us/wp-content/uploads/2025/06/CHEESEBURGER-FLYER-MAIN-2.png
ORGANIZER;CN="Justin Fahrenbruch":MAILTO:Admin@Kingdomfire.us
END:VEVENT
END:VCALENDAR