BEGIN:VCALENDAR
VERSION:2.0
PRODID:-//Kingdom Fire - ECPv6.15.20//NONSGML v1.0//EN
CALSCALE:GREGORIAN
METHOD:PUBLISH
X-WR-CALNAME:Kingdom Fire
X-ORIGINAL-URL:https://kingdomfire.us
X-WR-CALDESC:Events for Kingdom Fire
REFRESH-INTERVAL;VALUE=DURATION:PT1H
X-Robots-Tag:noindex
X-PUBLISHED-TTL:PT1H
BEGIN:VTIMEZONE
TZID:UTC
BEGIN:STANDARD
TZOFFSETFROM:+0000
TZOFFSETTO:+0000
TZNAME:UTC
DTSTART:20240101T000000
END:STANDARD
END:VTIMEZONE
BEGIN:VEVENT
DTSTART;TZID=UTC:20250509T183000
DTEND;TZID=UTC:20250509T203000
DTSTAMP:20260425T015834
CREATED:20250501T170904Z
LAST-MODIFIED:20250501T170904Z
UID:10000992-1746815400-1746822600@kingdomfire.us
SUMMARY:"Love Abounds" Recovery Program  |  Guest Speaker  |  Saginaw\, Michigan
DESCRIPTION:The Love Abounds Recovery Program is a faith-based program where adults 18 and older who deal with struggles in life through addictions\, habits and hangups\, can be in safe\, confidential environment to work through the 21-step program with love\, understanding\, and no condemnation.  We trust and believe that with God all things are possible.  Even when we come from diverse backgrounds\, cultures\, and different life challenges.  It is our strong belief that we can live out an overcoming life of freedom as we take this jouney together.  Above all things have fervent love for one another\, for “love will cover a multitude of sin” – 1 peter 4:8 \n  \nEvery Other Friday @ Glory House International Ministries \n3660 Hermansau Ave.  Saginaw\, MI 48602 \n  \nGet ready to be inspired! \nWe’re thrilled to welcome Justin Fahrenbruch on May 9 at 6:30. Join us with an open heart and mind\, expecting a powerful message that will uplift and bless you!
URL:https://kingdomfire.us/event/love-abounds-recovery-program-guest-speaker-saginaw-michigan/
LOCATION:Glory House International Ministries\, 3660 Hermansau Rd.\, Saginaw\, PA\, 48603\, United States
CATEGORIES:Guest Speaker for Special Event
ATTACH;FMTTYPE=image/jpeg:https://kingdomfire.us/wp-content/uploads/2025/05/494517901_2725576751165494_6537578187531225441_n.jpg
END:VEVENT
END:VCALENDAR