BEGIN:VCALENDAR
VERSION:2.0
PRODID:-//Kingdom Fire - ECPv6.15.20//NONSGML v1.0//EN
CALSCALE:GREGORIAN
METHOD:PUBLISH
X-ORIGINAL-URL:https://kingdomfire.us
X-WR-CALDESC:Events for Kingdom Fire
REFRESH-INTERVAL;VALUE=DURATION:PT1H
X-Robots-Tag:noindex
X-PUBLISHED-TTL:PT1H
BEGIN:VTIMEZONE
TZID:UTC
BEGIN:STANDARD
TZOFFSETFROM:+0000
TZOFFSETTO:+0000
TZNAME:UTC
DTSTART:20240101T000000
END:STANDARD
END:VTIMEZONE
BEGIN:VEVENT
DTSTART;TZID=UTC:20250311T180000
DTEND;TZID=UTC:20250311T193000
DTSTAMP:20260426T004905
CREATED:20250103T233632Z
LAST-MODIFIED:20250103T233632Z
UID:10000303-1741716000-1741721400@kingdomfire.us
SUMMARY:Lifestyle Evangelism Equipping Courses |  @Faith Christian Center  I  Chesterfield\, MI
DESCRIPTION:FREE EVANGELISM EQUIPPING COURSES \n\n\n\nDo you believe you are called to be an Evangelist?\nOr maybe you just wanna grow in this area of your walk…\n\n\n\nEvangelist Justin Fahrenbruch will be training us to grow beyond comfort zones and reach OUR world for Christ. This won’t just be another class… This course will challenge you to discover and become everything God has called you to be!\n\n\n\n A Lifestyle of walking in Kingdom Evangelism.\n\n\n\nSessions Include:\n\n\n – Identity / Becoming Love\n – Destroying Fear / Increased Boldness\n – Holy Spirit / Gifts of the Holy Spirit\n – Kingdom Evangelism / The Jesus Way\n – The Power of Personal Testimony\n – Hearing God’s Voice / Prophetic Gifts\n – Healing & Deliverance / Power Gifts\n\n\n\nThere will also be HANDS-ON Equipping Activations…\n\n\n\n How to share the Gospel\n How to craft and share your personal testimony\n How to give and receive a prophetic word\n How to receive and give words of knowledge\n How to minister to the sick\n How to cast out spirits\n\n\n\n— ONCE A MONTH OUTREACH OPPORTUNITIES —\n\n\n\n Classes will begin on Tuesday\, January 14th and will be held EVERY OTHER TUESDAY (For 7 Weeks)\n\n\n\n*** Registration Required ***\n\n\n\n In-Person Location:\nFaith Christian Center\n46000 N Gratiot Ave.\nChesterfield\, MI 48051\n\n\n\n Online Access\nZOOM LINK provided via E-Mail.\n\n\n\nYou can sign up right now!!!!\n\nREGISTER FOR IN PERSON:\n\nhttps://docs.google.com/forms/d/1n2Uugs18QW0Sdwfs-qBcW0kPCNMvdLUs5lO-lcO0Tx0/viewform?fbclid=IwZXh0bgNhZW0CMTAAAR16FiB1MN3QHj42pUXB8eTz3BAtgAbDxC7SzgzewVBWH1pWcGhdUeaHfV8_aem_D8sMj5V08iTd0oL8ILJrkA&edit_requested=true\n\nREGISTER FOR VIRTUAL ONLINE:\nhttps://us02web.zoom.us/meeting/register/NevTtIo-SoeM7LZh816olg\n\n\n\nAs a friendly reminder… If you cannot make these classes… In-Person or Virtual Online… REPLAY ACCESS will be available for FREE for partners with our ministry.\n\n\n\n Looking forward to seeing you in a few weeks!
URL:https://kingdomfire.us/event/lifestyle-evangelism-equipping-class/2025-03-11/
LOCATION:Faith Christian Center\, 46000 Gratiot Ave.
CATEGORIES:Evangelism Equipping
ATTACH;FMTTYPE=image/jpeg:https://kingdomfire.us/wp-content/uploads/2025/01/street-evangelism-scaled.jpg
ORGANIZER;CN="Justin Fahrenbruch":MAILTO:Admin@Kingdomfire.us
END:VEVENT
END:VCALENDAR